BEGIN:VCALENDAR
VERSION:2.0
PRODID:-//Wandelstadt Esslingen - ECPv6.15.20//NONSGML v1.0//EN
CALSCALE:GREGORIAN
METHOD:PUBLISH
X-WR-CALNAME:Wandelstadt Esslingen
X-ORIGINAL-URL:https://wandelstadt-esslingen.de
X-WR-CALDESC:Veranstaltungen für Wandelstadt Esslingen
REFRESH-INTERVAL;VALUE=DURATION:PT1H
X-Robots-Tag:noindex
X-PUBLISHED-TTL:PT1H
BEGIN:VTIMEZONE
TZID:Europe/Berlin
BEGIN:DAYLIGHT
TZOFFSETFROM:+0100
TZOFFSETTO:+0200
TZNAME:CEST
DTSTART:20230326T010000
END:DAYLIGHT
BEGIN:STANDARD
TZOFFSETFROM:+0200
TZOFFSETTO:+0100
TZNAME:CET
DTSTART:20231029T010000
END:STANDARD
BEGIN:DAYLIGHT
TZOFFSETFROM:+0100
TZOFFSETTO:+0200
TZNAME:CEST
DTSTART:20240331T010000
END:DAYLIGHT
BEGIN:STANDARD
TZOFFSETFROM:+0200
TZOFFSETTO:+0100
TZNAME:CET
DTSTART:20241027T010000
END:STANDARD
BEGIN:DAYLIGHT
TZOFFSETFROM:+0100
TZOFFSETTO:+0200
TZNAME:CEST
DTSTART:20250330T010000
END:DAYLIGHT
BEGIN:STANDARD
TZOFFSETFROM:+0200
TZOFFSETTO:+0100
TZNAME:CET
DTSTART:20251026T010000
END:STANDARD
END:VTIMEZONE
BEGIN:VEVENT
DTSTART;VALUE=DATE:20240615
DTEND;VALUE=DATE:20240616
DTSTAMP:20260423T021315
CREATED:20240429T085647Z
LAST-MODIFIED:20240429T085812Z
UID:2872-1718409600-1718495999@wandelstadt-esslingen.de
SUMMARY:Tag der Offenen Gesellschaft
DESCRIPTION:Eine offene Gesellschaft gibt es nur dann\, wenn genug Menschen für sie eintreten. Am Samstag\, den 15. Juni 2024\, heißt es überall: Tische und Stühle raus! Team Offene Gesellschaft tischt auf und lädt ein. Die Idee: nur durch Gespräche lernen wir neue Perspektive kennen\, entkräften wir Vorurteile und bauen wir gemeinsam eine wehrhafte Demokratie. \nLetzte Jahre waren über 50.000 Menschen für die Demokratie\, Offenheit\, Zusammenhalt\, Vielfalt und Freiheit auf der Straße. Wir rufen auch dich auf\, dich am 15. Juni am TdOG24 zu beteiligen. \nWeitere Infos hier
URL:https://wandelstadt-esslingen.de/event/tag-der-offenen-gesellschaft/
END:VEVENT
END:VCALENDAR