BEGIN:VCALENDAR
VERSION:2.0
PRODID:-//Wandelstadt Esslingen - ECPv6.15.20//NONSGML v1.0//EN
CALSCALE:GREGORIAN
METHOD:PUBLISH
X-WR-CALNAME:Wandelstadt Esslingen
X-ORIGINAL-URL:https://wandelstadt-esslingen.de
X-WR-CALDESC:Veranstaltungen für Wandelstadt Esslingen
REFRESH-INTERVAL;VALUE=DURATION:PT1H
X-Robots-Tag:noindex
X-PUBLISHED-TTL:PT1H
BEGIN:VTIMEZONE
TZID:Europe/Berlin
BEGIN:DAYLIGHT
TZOFFSETFROM:+0100
TZOFFSETTO:+0200
TZNAME:CEST
DTSTART:20220327T010000
END:DAYLIGHT
BEGIN:STANDARD
TZOFFSETFROM:+0200
TZOFFSETTO:+0100
TZNAME:CET
DTSTART:20221030T010000
END:STANDARD
BEGIN:DAYLIGHT
TZOFFSETFROM:+0100
TZOFFSETTO:+0200
TZNAME:CEST
DTSTART:20230326T010000
END:DAYLIGHT
BEGIN:STANDARD
TZOFFSETFROM:+0200
TZOFFSETTO:+0100
TZNAME:CET
DTSTART:20231029T010000
END:STANDARD
BEGIN:DAYLIGHT
TZOFFSETFROM:+0100
TZOFFSETTO:+0200
TZNAME:CEST
DTSTART:20240331T010000
END:DAYLIGHT
BEGIN:STANDARD
TZOFFSETFROM:+0200
TZOFFSETTO:+0100
TZNAME:CET
DTSTART:20241027T010000
END:STANDARD
END:VTIMEZONE
BEGIN:VEVENT
DTSTART;VALUE=DATE:20230429
DTEND;VALUE=DATE:20230430
DTSTAMP:20260424T162930
CREATED:20230129T212018Z
LAST-MODIFIED:20230129T212018Z
UID:1313-1682726400-1682812799@wandelstadt-esslingen.de
SUMMARY:Tag der Klimademokratie am 29. April
DESCRIPTION:“Hallo Bundestag\, wir müssen reden!“ und zwar am 29.4.\, dem Tag der Klimademokratie! \nIm Bündnis mit vielen zivilgesellschaftlichen Organisation starten wir an diesem Tag so viele persönliche Klimagespräche zwischen Bürger:innen und Abgeordneten des Bundestags wie noch nie. Online und gleichzeitig im ganzen Land. \nDer direkte Dialog mit der Politik ist urdemokratisch\, Gehörtwerden und Mitreden unser gutes Recht. Die Zeit dafür ist jetzt! Denn die Schäden und Folgen der Klimakrise werden spürbar extremer. \nDu willst deine brennenden Fragen endlich direkt loswerden? Weil du auch wissen willst: „Wie werden wir #EndlichFossilfrei?“ Dann melde dich an und rede mit. Alle Infos: www.tagderklimademokratie.de
URL:https://wandelstadt-esslingen.de/event/tag-der-klimademokratie-am-29-april/
LOCATION:Digital
END:VEVENT
END:VCALENDAR