BEGIN:VCALENDAR
VERSION:2.0
PRODID:-//Wandelstadt Esslingen - ECPv6.15.20//NONSGML v1.0//EN
CALSCALE:GREGORIAN
METHOD:PUBLISH
X-WR-CALNAME:Wandelstadt Esslingen
X-ORIGINAL-URL:https://wandelstadt-esslingen.de
X-WR-CALDESC:Veranstaltungen für Wandelstadt Esslingen
REFRESH-INTERVAL;VALUE=DURATION:PT1H
X-Robots-Tag:noindex
X-PUBLISHED-TTL:PT1H
BEGIN:VTIMEZONE
TZID:Europe/Berlin
BEGIN:DAYLIGHT
TZOFFSETFROM:+0100
TZOFFSETTO:+0200
TZNAME:CEST
DTSTART:20230326T010000
END:DAYLIGHT
BEGIN:STANDARD
TZOFFSETFROM:+0200
TZOFFSETTO:+0100
TZNAME:CET
DTSTART:20231029T010000
END:STANDARD
BEGIN:DAYLIGHT
TZOFFSETFROM:+0100
TZOFFSETTO:+0200
TZNAME:CEST
DTSTART:20240331T010000
END:DAYLIGHT
BEGIN:STANDARD
TZOFFSETFROM:+0200
TZOFFSETTO:+0100
TZNAME:CET
DTSTART:20241027T010000
END:STANDARD
BEGIN:DAYLIGHT
TZOFFSETFROM:+0100
TZOFFSETTO:+0200
TZNAME:CEST
DTSTART:20250330T010000
END:DAYLIGHT
BEGIN:STANDARD
TZOFFSETFROM:+0200
TZOFFSETTO:+0100
TZNAME:CET
DTSTART:20251026T010000
END:STANDARD
END:VTIMEZONE
BEGIN:VEVENT
DTSTART;VALUE=DATE:20240123
DTEND;VALUE=DATE:20240311
DTSTAMP:20260422T052158
CREATED:20240115T151702Z
LAST-MODIFIED:20240301T002828Z
UID:2454-1705968000-1710115199@wandelstadt-esslingen.de
SUMMARY:Digitale BürgerInnenbeteiligung: Freizeit und Naherholung in der Region Stuttgart
DESCRIPTION:https://landschaftspark.region-stuttgart.org/de/mitmachen/ \n\n\n\n\nWir machen Region – Gemeinsam! \n\n\n\n\n\n\n\n\n\n\nFreizeit und Naherholung in der Region Stuttgart \n\nNatur und Landschaft – Das sind mit Abstand die meistgenannten Antworten auf die Frage\, was Bürgerinnen und Bürgern in der Region am besten gefällt. Eine Tatsache\, die uns als Verband Region Stuttgart noch stärker anspornt\, diese Räume zu sichern und aufzuwerten. Um dies bestmöglich umzusetzen\, sind wir auch auf die Expertise vor Ort angewiesen: \n\nWelche Planungen in Bezug auf Freizeit\, Erholung und Umwelt haben Sie in Ihrer Kommune?\nWo soll es besser werden und welche Ideen für neue Maßnahmen haben Sie?\nHaben Sie Hinweise zu bestehenden Angeboten\, z.B. Aussichtsorte\, Rad- und Wanderwege\, Rastplätze?\n\nAuf solche konkreten Fragen benötigen wir als Verband Region Stuttgart Antworten. Nur so kann es uns gelingen\, neben einzelnen Projekten ein möglichst ganzheitliches Konzept für die Region zu entwickeln.
URL:https://wandelstadt-esslingen.de/event/start-der-digitalen-buergerinnenbeteiligung-freizeit-und-naherholung-in-der-region-stuttgart/
END:VEVENT
END:VCALENDAR