BEGIN:VCALENDAR
VERSION:2.0
PRODID:-//Wandelstadt Esslingen - ECPv6.15.20//NONSGML v1.0//EN
CALSCALE:GREGORIAN
METHOD:PUBLISH
X-WR-CALNAME:Wandelstadt Esslingen
X-ORIGINAL-URL:https://wandelstadt-esslingen.de
X-WR-CALDESC:Veranstaltungen für Wandelstadt Esslingen
REFRESH-INTERVAL;VALUE=DURATION:PT1H
X-Robots-Tag:noindex
X-PUBLISHED-TTL:PT1H
BEGIN:VTIMEZONE
TZID:Europe/Berlin
BEGIN:DAYLIGHT
TZOFFSETFROM:+0100
TZOFFSETTO:+0200
TZNAME:CEST
DTSTART:20240331T010000
END:DAYLIGHT
BEGIN:STANDARD
TZOFFSETFROM:+0200
TZOFFSETTO:+0100
TZNAME:CET
DTSTART:20241027T010000
END:STANDARD
BEGIN:DAYLIGHT
TZOFFSETFROM:+0100
TZOFFSETTO:+0200
TZNAME:CEST
DTSTART:20250330T010000
END:DAYLIGHT
BEGIN:STANDARD
TZOFFSETFROM:+0200
TZOFFSETTO:+0100
TZNAME:CET
DTSTART:20251026T010000
END:STANDARD
BEGIN:DAYLIGHT
TZOFFSETFROM:+0100
TZOFFSETTO:+0200
TZNAME:CEST
DTSTART:20260329T010000
END:DAYLIGHT
BEGIN:STANDARD
TZOFFSETFROM:+0200
TZOFFSETTO:+0100
TZNAME:CET
DTSTART:20261025T010000
END:STANDARD
END:VTIMEZONE
BEGIN:VEVENT
DTSTART;TZID=Europe/Berlin:20250319T190000
DTEND;TZID=Europe/Berlin:20250319T210000
DTSTAMP:20260421T213423
CREATED:20250222T214054Z
LAST-MODIFIED:20250222T214054Z
UID:4293-1742410800-1742418000@wandelstadt-esslingen.de
SUMMARY:Starke Stimmen: Ein Abend voller Musik und Poesie
DESCRIPTION:im Rahmen der Esslinger Frauenwochen \nGemeinsam wollen wir die Vielfalt und Stärke der Frauen feiern und ein Zeichen für Feminismus und Gleichberechtigung setzen. Sie erwartet ein Abend voller inspirierender Worte und kraftvoller Musik. Die zwei Poetry-Slammerinnen werden ihre Texte vortragen und dabei Themen wie Feminismus\, Selbstbestimmung und gesellschaftlichen Wandel beleuchten. Begleitet wird das Programm vom feministischen Chor Stuttgart\, der den Abend mit seinen kraftvollen Liedern musikalisch untermalen wird. Lassen Sie sich von dem Engagement der Künstlerinnen mitreißen und erleben Sie eine Mischung aus Performances und Musik\, die unter die Haut geht und zum Nachdenken anregt.\n \nKein Vorverkauf\nEintrittsspreis an der Abendkasse: 4 € \nInfos: www.frauenhelfenfrauen-es.de
URL:https://wandelstadt-esslingen.de/event/starke-stimmen-ein-abend-voller-musik-und-poesie/
LOCATION:Kulturzentrum Dieselstraße\, Dieselstraße 26\, Esslingen\, Deutschland
CATEGORIES:Kulturveranstaltung
ORGANIZER;CN="Kulturzentrum Dieselstra%C3%9Fe":MAILTO:info@dieselstrasse.de
END:VEVENT
END:VCALENDAR