BEGIN:VCALENDAR
VERSION:2.0
PRODID:-//Wandelstadt Esslingen - ECPv6.15.20//NONSGML v1.0//EN
CALSCALE:GREGORIAN
METHOD:PUBLISH
X-WR-CALNAME:Wandelstadt Esslingen
X-ORIGINAL-URL:https://wandelstadt-esslingen.de
X-WR-CALDESC:Veranstaltungen für Wandelstadt Esslingen
REFRESH-INTERVAL;VALUE=DURATION:PT1H
X-Robots-Tag:noindex
X-PUBLISHED-TTL:PT1H
BEGIN:VTIMEZONE
TZID:Europe/Berlin
BEGIN:DAYLIGHT
TZOFFSETFROM:+0100
TZOFFSETTO:+0200
TZNAME:CEST
DTSTART:20240331T010000
END:DAYLIGHT
BEGIN:STANDARD
TZOFFSETFROM:+0200
TZOFFSETTO:+0100
TZNAME:CET
DTSTART:20241027T010000
END:STANDARD
BEGIN:DAYLIGHT
TZOFFSETFROM:+0100
TZOFFSETTO:+0200
TZNAME:CEST
DTSTART:20250330T010000
END:DAYLIGHT
BEGIN:STANDARD
TZOFFSETFROM:+0200
TZOFFSETTO:+0100
TZNAME:CET
DTSTART:20251026T010000
END:STANDARD
BEGIN:DAYLIGHT
TZOFFSETFROM:+0100
TZOFFSETTO:+0200
TZNAME:CEST
DTSTART:20260329T010000
END:DAYLIGHT
BEGIN:STANDARD
TZOFFSETFROM:+0200
TZOFFSETTO:+0100
TZNAME:CET
DTSTART:20261025T010000
END:STANDARD
END:VTIMEZONE
BEGIN:VEVENT
DTSTART;TZID=Europe/Berlin:20250512T000000
DTEND;TZID=Europe/Berlin:20250512T000500
DTSTAMP:20260421T233754
CREATED:20250416T201232Z
LAST-MODIFIED:20250424T173222Z
UID:4660-1747008000-1747008300@wandelstadt-esslingen.de
SUMMARY:Stadtradeln
DESCRIPTION:Start des Stadtradelns im ganzen Kreis Esslingen. Und das ist unser Esslinger Team: https://www.stadtradeln.de/index.php?id=171&L=0&team_preselect=6157 \nVom 12. Mai 2025 bis zum 1. Juni 2025 stehen in Esslingen Gesundheit\, Bewegung\, Lebensqualität und Teamgeist im Mittelpunkt: Bereits zum fünfzehnten Mal nimmt die Stadt Esslingen am STADTRADELN des Klima-Bündnis und der Initiative RadKULTUR teil\, das unter anderem vom Verkehrsministerium Baden-Württemberg unterstützt wird. \nZiel des Wettbewerbs: Bürger:innen aller Altersklassen fahren drei Wochen lang möglichst viel Fahrrad und sammeln Kilometer für ihr Team – egal ob auf dem Weg zur Arbeit\, zur Schule\, zum Einkaufen oder in der Freizeit. Am Ende werden die erfolgreichsten Teams ausgezeichnet\, für die Esslinger Schulen und Kindertageseinrichtungen gibt es einen Sonderwettbewerb mit tollen Preisen. Auch die erfolgreichsten Kommunen erhalten im Anschluss an das STADTRADELN eine Auszeichnung. \nhttps://www.stadtradeln.de/esslingen
URL:https://wandelstadt-esslingen.de/event/stadtradeln-3/
CATEGORIES:Beteiligung
ORGANIZER;CN="Allgemeiner Deutscher Fahrrad-Club e. V. (ADFC)":MAILTO:thomas.albrecht@adfc-bw.de
END:VEVENT
END:VCALENDAR