BEGIN:VCALENDAR
VERSION:2.0
PRODID:-//Wandelstadt Esslingen - ECPv6.15.20//NONSGML v1.0//EN
CALSCALE:GREGORIAN
METHOD:PUBLISH
X-WR-CALNAME:Wandelstadt Esslingen
X-ORIGINAL-URL:https://wandelstadt-esslingen.de
X-WR-CALDESC:Veranstaltungen für Wandelstadt Esslingen
REFRESH-INTERVAL;VALUE=DURATION:PT1H
X-Robots-Tag:noindex
X-PUBLISHED-TTL:PT1H
BEGIN:VTIMEZONE
TZID:Europe/Berlin
BEGIN:DAYLIGHT
TZOFFSETFROM:+0100
TZOFFSETTO:+0200
TZNAME:CEST
DTSTART:20230326T010000
END:DAYLIGHT
BEGIN:STANDARD
TZOFFSETFROM:+0200
TZOFFSETTO:+0100
TZNAME:CET
DTSTART:20231029T010000
END:STANDARD
BEGIN:DAYLIGHT
TZOFFSETFROM:+0100
TZOFFSETTO:+0200
TZNAME:CEST
DTSTART:20240331T010000
END:DAYLIGHT
BEGIN:STANDARD
TZOFFSETFROM:+0200
TZOFFSETTO:+0100
TZNAME:CET
DTSTART:20241027T010000
END:STANDARD
BEGIN:DAYLIGHT
TZOFFSETFROM:+0100
TZOFFSETTO:+0200
TZNAME:CEST
DTSTART:20250330T010000
END:DAYLIGHT
BEGIN:STANDARD
TZOFFSETFROM:+0200
TZOFFSETTO:+0100
TZNAME:CET
DTSTART:20251026T010000
END:STANDARD
END:VTIMEZONE
BEGIN:VEVENT
DTSTART;VALUE=DATE:20240617
DTEND;VALUE=DATE:20240708
DTSTAMP:20260424T201919
CREATED:20240513T085739Z
LAST-MODIFIED:20240513T085739Z
UID:2927-1718582400-1720396799@wandelstadt-esslingen.de
SUMMARY:Stadtradeln
DESCRIPTION:Liebe Stadtradlerinnen\, liebe Stadtradler\,\nam 17.06.2024 ist es wieder soweit: das STADTRADELN in der Stadt Esslingen beginnt und Sie sind dazu eingeladen\, drei Wochen lang in die Pedale zu treten und ein Zeichen zu setzen für mehr Radförderung\, Klimaschutz und Lebensqualität in unserer Stadt. Das Ziel ist es\, möglichst viele Alltagswege mit dem Fahrrad zurückzulegen.\nAb sofort können Sie sich mit Ihren Zugangsdaten vom Vorjahr registrieren unter STADTRADELN – Registrieren\nBei der Abschlussveranstaltung am 23. Juli 2024 werden die Teams  mit den meisten Kilometern gesamt und pro Kopf ausgezeichnet. Unter allen aktiven Teilnehmerinnen und Teilnehmern werden attraktive Preise verlost.\nInnerhalb des STADTRADELN findet für Schulen der Sonderwettbewerb Schulradeln statt\, bei dem die drei besten Schulen unserer Stadt ausgezeichnet werden. Zusätzlich wird unter allen teilnehmenden Grundschulen und Kindertageseinrichtungen ein Preisgeld verlost.\nIst Ihr Rad fit für die Saison? Beim kostenlosen RadCHECK am 6.06.2024 auf dem Marktplatz können Sie ihr Rad in der mobilen Fahrradwerkstatt überprüfen lassen.\nAlle Infos zum diesjährigen STADTRADELN in Esslingen finden Sie unter STADTRADELN – Esslingen .\nBei Fragen wenden Sie sich gerne an mich.\nWir wünschen Ihnen viel Freude und schöne Erlebnisse auf Ihren Radtouren und Fahrten im Alltag.\nHerzliche Grüße\nSabine Frisch und das Team der Stabsstelle Nachhaltigkeit und Klimaschutz
URL:https://wandelstadt-esslingen.de/event/stadtradeln-2/
END:VEVENT
END:VCALENDAR