BEGIN:VCALENDAR
VERSION:2.0
PRODID:-//Wandelstadt Esslingen - ECPv6.15.20//NONSGML v1.0//EN
CALSCALE:GREGORIAN
METHOD:PUBLISH
X-WR-CALNAME:Wandelstadt Esslingen
X-ORIGINAL-URL:https://wandelstadt-esslingen.de
X-WR-CALDESC:Veranstaltungen für Wandelstadt Esslingen
REFRESH-INTERVAL;VALUE=DURATION:PT1H
X-Robots-Tag:noindex
X-PUBLISHED-TTL:PT1H
BEGIN:VTIMEZONE
TZID:Europe/Berlin
BEGIN:DAYLIGHT
TZOFFSETFROM:+0100
TZOFFSETTO:+0200
TZNAME:CEST
DTSTART:20240331T010000
END:DAYLIGHT
BEGIN:STANDARD
TZOFFSETFROM:+0200
TZOFFSETTO:+0100
TZNAME:CET
DTSTART:20241027T010000
END:STANDARD
BEGIN:DAYLIGHT
TZOFFSETFROM:+0100
TZOFFSETTO:+0200
TZNAME:CEST
DTSTART:20250330T010000
END:DAYLIGHT
BEGIN:STANDARD
TZOFFSETFROM:+0200
TZOFFSETTO:+0100
TZNAME:CET
DTSTART:20251026T010000
END:STANDARD
BEGIN:DAYLIGHT
TZOFFSETFROM:+0100
TZOFFSETTO:+0200
TZNAME:CEST
DTSTART:20260329T010000
END:DAYLIGHT
BEGIN:STANDARD
TZOFFSETFROM:+0200
TZOFFSETTO:+0100
TZNAME:CET
DTSTART:20261025T010000
END:STANDARD
END:VTIMEZONE
BEGIN:VEVENT
DTSTART;TZID=Europe/Berlin:20250305T200000
DTEND;TZID=Europe/Berlin:20250305T220000
DTSTAMP:20260421T201938
CREATED:20250221T163421Z
LAST-MODIFIED:20250221T163842Z
UID:4244-1741204800-1741212000@wandelstadt-esslingen.de
SUMMARY:Stadt ohne Juden
DESCRIPTION:Wir zeigen den Film in Zusammenarbeit mit ton—art\, Festival Esslingen für zeitgenössische Musik\, das 2025 unter dem Motto »Zeiten wenden« steht und DENK-ZEICHEN e. V. – Gedenkverein in Esslingen. Einführung durch Reinhold Riedel\, DENK-ZEICHEN. \nDIE STADT OHNE JUDEN gilt heute weltweit als erstes explizites filmkünstlerisches Statement gegen den Antisemitismus. Lange waren große Teile des Filmmaterials verschollen. Ein Zufallsfund auf einem Pariser Flohmarkt wurde die Basis für eine umfassende Rekonstruktion und Restaurierung\, die in einer großangelegten Crowdfunding-Aktion realisiert wurden. Wir zeigen eine digitale Version des Films. \n    »Die Stadt ohne Juden« betitelte Hugo Bettauer seinen 1922 erschienenen satirischen Roman\, der die damals noch utopische Vorstellung einer Vertreibung der Juden aus Wien beschrieb. Bereits zwei Jahre später kam die Verfilmung in die Kinos. Im Film wurde der brisante Stoff abgeschwächt\, konkrete realpolitische Bezüge vermieden: In der sagenhaften Republik Utopia herrscht Unruhe. Die Arbeiter gehen auf die Straße\, das Geld ist nichts mehr wert\, Spekulanten befeuern mit ihrer Habsucht die Inflation. In den Wirtshäusern kennen die Menschen schon die Lösung: Hinaus mit den Juden.\n\n87 Minuten | FSK nicht geprüft (ab 18 Jahren freigegeben)  | ohne Dialog
URL:https://wandelstadt-esslingen.de/event/stadt-ohne-juden/
LOCATION:Kommunales Kino\, Maille 4-9\, Esslingen\, 73728\, Deutschland
CATEGORIES:Kulturveranstaltung
END:VEVENT
END:VCALENDAR