BEGIN:VCALENDAR
VERSION:2.0
PRODID:-//Wandelstadt Esslingen - ECPv6.15.20//NONSGML v1.0//EN
CALSCALE:GREGORIAN
METHOD:PUBLISH
X-WR-CALNAME:Wandelstadt Esslingen
X-ORIGINAL-URL:https://wandelstadt-esslingen.de
X-WR-CALDESC:Veranstaltungen für Wandelstadt Esslingen
REFRESH-INTERVAL;VALUE=DURATION:PT1H
X-Robots-Tag:noindex
X-PUBLISHED-TTL:PT1H
BEGIN:VTIMEZONE
TZID:Europe/Berlin
BEGIN:DAYLIGHT
TZOFFSETFROM:+0100
TZOFFSETTO:+0200
TZNAME:CEST
DTSTART:20250330T010000
END:DAYLIGHT
BEGIN:STANDARD
TZOFFSETFROM:+0200
TZOFFSETTO:+0100
TZNAME:CET
DTSTART:20251026T010000
END:STANDARD
BEGIN:DAYLIGHT
TZOFFSETFROM:+0100
TZOFFSETTO:+0200
TZNAME:CEST
DTSTART:20260329T010000
END:DAYLIGHT
BEGIN:STANDARD
TZOFFSETFROM:+0200
TZOFFSETTO:+0100
TZNAME:CET
DTSTART:20261025T010000
END:STANDARD
BEGIN:DAYLIGHT
TZOFFSETFROM:+0100
TZOFFSETTO:+0200
TZNAME:CEST
DTSTART:20270328T010000
END:DAYLIGHT
BEGIN:STANDARD
TZOFFSETFROM:+0200
TZOFFSETTO:+0100
TZNAME:CET
DTSTART:20271031T010000
END:STANDARD
END:VTIMEZONE
BEGIN:VEVENT
DTSTART;TZID=Europe/Berlin:20260318T180000
DTEND;TZID=Europe/Berlin:20260318T193000
DTSTAMP:20260421T190759
CREATED:20260224T162737Z
LAST-MODIFIED:20260224T162737Z
UID:8302-1773856800-1773862200@wandelstadt-esslingen.de
SUMMARY:„ Sozusagen grundlos vergnügt…“ – Poesie\, die glücklich macht
DESCRIPTION:Gedichtrezitation mit Klavier Ein Abend mit Gedichten über das Leben und die Liebe\, begleitet von Klaviermusik\, die zum Genießen und Nachsinnen einlädt. Gedichte verdichten! Sie bringen auf wundervolle Weise Lebensthemen\, Alltägliches und Gefühle mit Hilfe von Bildern und Metaphern auf den Punkt. Sie geben Lebenshilfe und bringen uns zum Lachen. Genießen Sie eine Stunde Auszeit mit Werken von Mascha Kaleko\, Rainer Maria Rilke\, Anette von Droste Hülshoﬀ\, Joachim Ringelnatz und anderen. Rezitation : Gabriele Günthör Klavier : Dorothee Hermanni Veranstaltungsort : Café im ZAK – Zentrum für Arbeit und Kommunikation\, Franziskanergasse 7\, 73728 Esslingen am Neckar
URL:https://wandelstadt-esslingen.de/event/sozusagen-grundlos-vergnuegt-poesie-die-gluecklich-macht/
END:VEVENT
END:VCALENDAR