BEGIN:VCALENDAR
VERSION:2.0
PRODID:-//Wandelstadt Esslingen - ECPv6.15.20//NONSGML v1.0//EN
CALSCALE:GREGORIAN
METHOD:PUBLISH
X-WR-CALNAME:Wandelstadt Esslingen
X-ORIGINAL-URL:https://wandelstadt-esslingen.de
X-WR-CALDESC:Veranstaltungen für Wandelstadt Esslingen
REFRESH-INTERVAL;VALUE=DURATION:PT1H
X-Robots-Tag:noindex
X-PUBLISHED-TTL:PT1H
BEGIN:VTIMEZONE
TZID:Europe/Berlin
BEGIN:DAYLIGHT
TZOFFSETFROM:+0100
TZOFFSETTO:+0200
TZNAME:CEST
DTSTART:20230326T010000
END:DAYLIGHT
BEGIN:STANDARD
TZOFFSETFROM:+0200
TZOFFSETTO:+0100
TZNAME:CET
DTSTART:20231029T010000
END:STANDARD
BEGIN:DAYLIGHT
TZOFFSETFROM:+0100
TZOFFSETTO:+0200
TZNAME:CEST
DTSTART:20240331T010000
END:DAYLIGHT
BEGIN:STANDARD
TZOFFSETFROM:+0200
TZOFFSETTO:+0100
TZNAME:CET
DTSTART:20241027T010000
END:STANDARD
BEGIN:DAYLIGHT
TZOFFSETFROM:+0100
TZOFFSETTO:+0200
TZNAME:CEST
DTSTART:20250330T010000
END:DAYLIGHT
BEGIN:STANDARD
TZOFFSETFROM:+0200
TZOFFSETTO:+0100
TZNAME:CET
DTSTART:20251026T010000
END:STANDARD
END:VTIMEZONE
BEGIN:VEVENT
DTSTART;TZID=Europe/Berlin:20241125T190000
DTEND;TZID=Europe/Berlin:20241125T210000
DTSTAMP:20260425T030127
CREATED:20241023T193737Z
LAST-MODIFIED:20241023T193737Z
UID:3768-1732561200-1732568400@wandelstadt-esslingen.de
SUMMARY:Soiree: Orange Days
DESCRIPTION:Anlässlich der UN-Kampagne „Orange the World“ gegen Gewalt an Frauen und Mädchen / Eintritt frei\nGeschlechtsspezifische Gewalt fängt bei Alltagssexismus an und endet mit Femiziden. Gewalt gegen Frauen ist allgegenwärtig und fest in unseren patriarchalen Strukturen verankert. \nDie UN-Kampagne „Orange the World“ macht seit 1991 auf Gewalt gegen Frauen und Mädchen aufmerksam: vom Internationalen Tag zur Beendigung der Gewalt gegen Frauen am 25. November bis zum 10. Dezember\, dem Tag der Menschenrechte. \nDie Stadt Esslingen veranstaltet zum Auftakt in Kooperation mit dem Soroptimist International Club Esslingen\, der City Initiative Esslingen und der WLB eine Soiree mit Musik\, Lesungen\, einer Podiumsdiskussion mit verschiedenen Expert*innen zum Thema und anschließendem Zusammenkommen im Theaterfoyer. \nModeration: Hilke Lorenz (Stuttgarter Zeitung) \nDer Eintritt ist frei. \nWeitere Infos unter www.unwomen.de/orange-the-world
URL:https://wandelstadt-esslingen.de/event/soiree-orange-days/
LOCATION:Württembergische Landesbühne – Schauspielhaus mit Podium 1 & 2\, Ritterstraße 11\, Esslingen\, Deutschland
CATEGORIES:Kulturveranstaltung
END:VEVENT
END:VCALENDAR