BEGIN:VCALENDAR
VERSION:2.0
PRODID:-//Wandelstadt Esslingen - ECPv6.15.20//NONSGML v1.0//EN
CALSCALE:GREGORIAN
METHOD:PUBLISH
X-WR-CALNAME:Wandelstadt Esslingen
X-ORIGINAL-URL:https://wandelstadt-esslingen.de
X-WR-CALDESC:Veranstaltungen für Wandelstadt Esslingen
REFRESH-INTERVAL;VALUE=DURATION:PT1H
X-Robots-Tag:noindex
X-PUBLISHED-TTL:PT1H
BEGIN:VTIMEZONE
TZID:Europe/Berlin
BEGIN:DAYLIGHT
TZOFFSETFROM:+0100
TZOFFSETTO:+0200
TZNAME:CEST
DTSTART:20240331T010000
END:DAYLIGHT
BEGIN:STANDARD
TZOFFSETFROM:+0200
TZOFFSETTO:+0100
TZNAME:CET
DTSTART:20241027T010000
END:STANDARD
BEGIN:DAYLIGHT
TZOFFSETFROM:+0100
TZOFFSETTO:+0200
TZNAME:CEST
DTSTART:20250330T010000
END:DAYLIGHT
BEGIN:STANDARD
TZOFFSETFROM:+0200
TZOFFSETTO:+0100
TZNAME:CET
DTSTART:20251026T010000
END:STANDARD
BEGIN:DAYLIGHT
TZOFFSETFROM:+0100
TZOFFSETTO:+0200
TZNAME:CEST
DTSTART:20260329T010000
END:DAYLIGHT
BEGIN:STANDARD
TZOFFSETFROM:+0200
TZOFFSETTO:+0100
TZNAME:CET
DTSTART:20261025T010000
END:STANDARD
END:VTIMEZONE
BEGIN:VEVENT
DTSTART;TZID=Europe/Berlin:20250427T080000
DTEND;TZID=Europe/Berlin:20250427T170000
DTSTAMP:20260421T200206
CREATED:20250426T234734Z
LAST-MODIFIED:20250426T234734Z
UID:4767-1745740800-1745773200@wandelstadt-esslingen.de
SUMMARY:Selbstinstallation ( DIY ) von Photovoltaik-Anlagen
DESCRIPTION:Interaktives Online-Seminar\n\n\nWie bekomme ich vergleichbare Angebote für eine Photovoltaikanlage inkl. Speicher und Wallbox? \nUm eine Ausschreibung für eine PV-Anlage vergleichbar zu machen und zu einem fairen Preis zu kommen\, sind ein paar Punkte zu beachten. \nIn diesem interaktiven Seminar werden wir anhand des Daches eines/einer Teilnehmenden einige praktische Tools kennen lernen. \n– Welche Dachflächen sind geeignet? \n– Wie groß sollte die PV-Anlage sein? \n– Sollte ich einen Speicher und eine Wallbox mit beauftragen? \n– Wie hoch ist der Stromertrag\, Autarkiegrad\, Eigenverbrauch\, die Stromeinspeisung? \n  \nJede:r Teilnehmer:in bekommt die Unterlagen\, um alles nachzuvollziehen. \nVoraussetzung für den Kurs: Die Teilnehmer:inne sollten am Kurs „Balkonkraftwerke“ teilgenommen haben.
URL:https://wandelstadt-esslingen.de/event/selbstinstallation-diy-von-photovoltaik-anlagen/
CATEGORIES:Infoveranstaltung
END:VEVENT
END:VCALENDAR