BEGIN:VCALENDAR
VERSION:2.0
PRODID:-//Wandelstadt Esslingen - ECPv6.15.20//NONSGML v1.0//EN
CALSCALE:GREGORIAN
METHOD:PUBLISH
X-WR-CALNAME:Wandelstadt Esslingen
X-ORIGINAL-URL:https://wandelstadt-esslingen.de
X-WR-CALDESC:Veranstaltungen für Wandelstadt Esslingen
REFRESH-INTERVAL;VALUE=DURATION:PT1H
X-Robots-Tag:noindex
X-PUBLISHED-TTL:PT1H
BEGIN:VTIMEZONE
TZID:Europe/Berlin
BEGIN:DAYLIGHT
TZOFFSETFROM:+0100
TZOFFSETTO:+0200
TZNAME:CEST
DTSTART:20240331T010000
END:DAYLIGHT
BEGIN:STANDARD
TZOFFSETFROM:+0200
TZOFFSETTO:+0100
TZNAME:CET
DTSTART:20241027T010000
END:STANDARD
BEGIN:DAYLIGHT
TZOFFSETFROM:+0100
TZOFFSETTO:+0200
TZNAME:CEST
DTSTART:20250330T010000
END:DAYLIGHT
BEGIN:STANDARD
TZOFFSETFROM:+0200
TZOFFSETTO:+0100
TZNAME:CET
DTSTART:20251026T010000
END:STANDARD
BEGIN:DAYLIGHT
TZOFFSETFROM:+0100
TZOFFSETTO:+0200
TZNAME:CEST
DTSTART:20260329T010000
END:DAYLIGHT
BEGIN:STANDARD
TZOFFSETFROM:+0200
TZOFFSETTO:+0100
TZNAME:CET
DTSTART:20261025T010000
END:STANDARD
END:VTIMEZONE
BEGIN:VEVENT
DTSTART;TZID=Europe/Berlin:20251116T140000
DTEND;TZID=Europe/Berlin:20251116T170000
DTSTAMP:20260421T222023
CREATED:20251027T160248Z
LAST-MODIFIED:20251027T160248Z
UID:6881-1763301600-1763312400@wandelstadt-esslingen.de
SUMMARY:Schluss mit der Lebensgefahr am Aichschiesser Weg!
DESCRIPTION:Ort: Kreuzung L1150/Aichschiesser Weg \nWir werden im Gedenken an den Radfahrer\, der beim Überqueren der L1150 am 31.7.2024 von einem Motorradfahrer getötet worden ist\, ein „Ghostbike“ aufstellen\, also ein weiss bemaltes Rad\, dekoriert mit Blumen und Kerzen und dort stehen lassen. \nDie Abfahrt in Oberesslingen (Froschkönig) ist um 14 Uhr \nFoto: Jo Roettgers \nVeranstalter: ADFC Esslingen
URL:https://wandelstadt-esslingen.de/event/schluss-mit-der-lebensgefahr-am-aichschiesser-weg/
CATEGORIES:Ausflug,Demonstration,Live-Veranstaltung
ORGANIZER;CN="Allgemeiner Deutscher Fahrrad-Club e. V. (ADFC)":MAILTO:thomas.albrecht@adfc-bw.de
END:VEVENT
END:VCALENDAR