BEGIN:VCALENDAR
VERSION:2.0
PRODID:-//Wandelstadt Esslingen - ECPv6.15.20//NONSGML v1.0//EN
CALSCALE:GREGORIAN
METHOD:PUBLISH
X-WR-CALNAME:Wandelstadt Esslingen
X-ORIGINAL-URL:https://wandelstadt-esslingen.de
X-WR-CALDESC:Veranstaltungen für Wandelstadt Esslingen
REFRESH-INTERVAL;VALUE=DURATION:PT1H
X-Robots-Tag:noindex
X-PUBLISHED-TTL:PT1H
BEGIN:VTIMEZONE
TZID:Europe/Berlin
BEGIN:DAYLIGHT
TZOFFSETFROM:+0100
TZOFFSETTO:+0200
TZNAME:CEST
DTSTART:20240331T010000
END:DAYLIGHT
BEGIN:STANDARD
TZOFFSETFROM:+0200
TZOFFSETTO:+0100
TZNAME:CET
DTSTART:20241027T010000
END:STANDARD
BEGIN:DAYLIGHT
TZOFFSETFROM:+0100
TZOFFSETTO:+0200
TZNAME:CEST
DTSTART:20250330T010000
END:DAYLIGHT
BEGIN:STANDARD
TZOFFSETFROM:+0200
TZOFFSETTO:+0100
TZNAME:CET
DTSTART:20251026T010000
END:STANDARD
BEGIN:DAYLIGHT
TZOFFSETFROM:+0100
TZOFFSETTO:+0200
TZNAME:CEST
DTSTART:20260329T010000
END:DAYLIGHT
BEGIN:STANDARD
TZOFFSETFROM:+0200
TZOFFSETTO:+0100
TZNAME:CET
DTSTART:20261025T010000
END:STANDARD
END:VTIMEZONE
BEGIN:VEVENT
DTSTART;TZID=Europe/Berlin:20250709T084500
DTEND;TZID=Europe/Berlin:20250709T140000
DTSTAMP:20260422T032004
CREATED:20250701T125232Z
LAST-MODIFIED:20250701T125346Z
UID:5727-1752050700-1752069600@wandelstadt-esslingen.de
SUMMARY:Schattige Waldwanderung
DESCRIPTION:Der StadtSeniorenRat lädt angesichts der hohen Temperaturen dieses Mal zu einer  leichten\, ca. 7 km lange Wanderung durch den schattigen Berkheimer Wald bis nach Denkendorf mit anschließender Einkehr im Gasthof Sonnenhof ein. Treffpunkt: 9.15 Uhr Bushaltestelle Kronenstraße in Berkheim\, Verbindung vom ZOB Esslingen Bus 113 ab 8.49 Uhr\, Anmeldung: Heinz Reutter 0175 5648445 
URL:https://wandelstadt-esslingen.de/event/schattige-waldwanderung/
LOCATION:Berkheim\, Esslingen-Berkheim
CATEGORIES:Ausflug
ATTACH;FMTTYPE=image/jpeg:https://wandelstadt-esslingen.de/wp-content/uploads/2025/05/Logo-SSR.jpg
END:VEVENT
END:VCALENDAR