BEGIN:VCALENDAR
VERSION:2.0
PRODID:-//Wandelstadt Esslingen - ECPv6.15.20//NONSGML v1.0//EN
CALSCALE:GREGORIAN
METHOD:PUBLISH
X-WR-CALNAME:Wandelstadt Esslingen
X-ORIGINAL-URL:https://wandelstadt-esslingen.de
X-WR-CALDESC:Veranstaltungen für Wandelstadt Esslingen
REFRESH-INTERVAL;VALUE=DURATION:PT1H
X-Robots-Tag:noindex
X-PUBLISHED-TTL:PT1H
BEGIN:VTIMEZONE
TZID:Europe/Berlin
BEGIN:DAYLIGHT
TZOFFSETFROM:+0100
TZOFFSETTO:+0200
TZNAME:CEST
DTSTART:20240331T010000
END:DAYLIGHT
BEGIN:STANDARD
TZOFFSETFROM:+0200
TZOFFSETTO:+0100
TZNAME:CET
DTSTART:20241027T010000
END:STANDARD
BEGIN:DAYLIGHT
TZOFFSETFROM:+0100
TZOFFSETTO:+0200
TZNAME:CEST
DTSTART:20250330T010000
END:DAYLIGHT
BEGIN:STANDARD
TZOFFSETFROM:+0200
TZOFFSETTO:+0100
TZNAME:CET
DTSTART:20251026T010000
END:STANDARD
BEGIN:DAYLIGHT
TZOFFSETFROM:+0100
TZOFFSETTO:+0200
TZNAME:CEST
DTSTART:20260329T010000
END:DAYLIGHT
BEGIN:STANDARD
TZOFFSETFROM:+0200
TZOFFSETTO:+0100
TZNAME:CET
DTSTART:20261025T010000
END:STANDARD
END:VTIMEZONE
BEGIN:VEVENT
DTSTART;TZID=Europe/Berlin:20250602T193000
DTEND;TZID=Europe/Berlin:20250602T193000
DTSTAMP:20260421T234950
CREATED:20250526T113455Z
LAST-MODIFIED:20250526T113459Z
UID:4970-1748892600-1748892600@wandelstadt-esslingen.de
SUMMARY:Salon am Montag
DESCRIPTION:Mo | 02.06.2025 | 19.30 Uhr\n120 Minuten |  \nEintritt frei! Eine Veranstaltung des Netzwerks Kultur Esslingen. \nDer Salon am Montag im LUX ist zurück – als Bühne des Dialogs\, als Ort für Reflexion\, als Einladung zum gemeinsamen Weiterdenken! Kultur ist mehr als Programm\, sie ist Begegnung\, Ausdruck\, Auseinandersetzung. Sie entsteht im Tun\, im Zweifel\, im Mut. Sie soll bereichnern\, aber nichts kosten. Sie soll gefallen\, aber nicht wehtun. \nWir werfen Fragen auf: Wo steht die Kultur in dieser Stadt? Wieviel Raum hat sie? Wer hält sie lebendig? Wer gibt ihr Impulse? Was braucht sie\, um zu wachsen? Wir bringen Menschen zusammen\, die Kultur in Esslingen prägen: als Akteur:innen\, als Möglichmacher:innen\, als kritische Beobachter:innen. \nDer Abend versteht sich als Standortbestimmung – und als Auftakt zu einer Reihe von Salons\, in denen einzelne Themen weiter vertieft werden. Offen\, diskursiv und nahbar! Kommt vorbei\, hört zu\, kommentiert\,  fragt nach\, denn Kultur braucht Dialog!
URL:https://wandelstadt-esslingen.de/event/salon-am-montag/
LOCATION:Kommunales Kino\, Maille 4-9\, Esslingen\, 73728\, Deutschland
END:VEVENT
END:VCALENDAR