BEGIN:VCALENDAR
VERSION:2.0
PRODID:-//Wandelstadt Esslingen - ECPv6.15.20//NONSGML v1.0//EN
CALSCALE:GREGORIAN
METHOD:PUBLISH
X-WR-CALNAME:Wandelstadt Esslingen
X-ORIGINAL-URL:https://wandelstadt-esslingen.de
X-WR-CALDESC:Veranstaltungen für Wandelstadt Esslingen
REFRESH-INTERVAL;VALUE=DURATION:PT1H
X-Robots-Tag:noindex
X-PUBLISHED-TTL:PT1H
BEGIN:VTIMEZONE
TZID:Europe/Berlin
BEGIN:DAYLIGHT
TZOFFSETFROM:+0100
TZOFFSETTO:+0200
TZNAME:CEST
DTSTART:20250330T010000
END:DAYLIGHT
BEGIN:STANDARD
TZOFFSETFROM:+0200
TZOFFSETTO:+0100
TZNAME:CET
DTSTART:20251026T010000
END:STANDARD
BEGIN:DAYLIGHT
TZOFFSETFROM:+0100
TZOFFSETTO:+0200
TZNAME:CEST
DTSTART:20260329T010000
END:DAYLIGHT
BEGIN:STANDARD
TZOFFSETFROM:+0200
TZOFFSETTO:+0100
TZNAME:CET
DTSTART:20261025T010000
END:STANDARD
BEGIN:DAYLIGHT
TZOFFSETFROM:+0100
TZOFFSETTO:+0200
TZNAME:CEST
DTSTART:20270328T010000
END:DAYLIGHT
BEGIN:STANDARD
TZOFFSETFROM:+0200
TZOFFSETTO:+0100
TZNAME:CET
DTSTART:20271031T010000
END:STANDARD
END:VTIMEZONE
BEGIN:VEVENT
DTSTART;TZID=Europe/Berlin:20260815T103000
DTEND;TZID=Europe/Berlin:20260815T163000
DTSTAMP:20260421T190304
CREATED:20260106T195256Z
LAST-MODIFIED:20260106T200137Z
UID:10008275-1786789800-1786811400@wandelstadt-esslingen.de
SUMMARY:ReparaturCafé Esslingen
DESCRIPTION:ReparaturCafé – Gebrauchsgegenstände aller Art gemeinsam reparieren. \nDer Fön bleibt kalt? Die Hose hat ein Loch? Das Radio ist verstummt?\nDas Stuhlbein wackelt? Die CD springt? Der Mixer rührt sich nicht mehr? \nOb Kleidung\, Elektrogeräte oder andere Gebrauchsgegenstände – das ReparaturCafé bietet neben dem nötigen Werkzeug auch Materialien\, Tips und tatkräftige Hilfe um defekten Dingen aller Art ein zweites Leben einzuhauchen. Mit unseren freiwilligen Reparatur-Spezialistinnen und -Spezialisten ist die erste Hemmschwelle vor dem Ansetzen von Schraubendreher\, Lötkolben oder Schneiderschere schnell überwunden und schon bald folgt die Erkenntnis: Kaputt muss nicht das Ende sein\, und so kompliziert ist das Reparieren ja gar nicht! So lassen sich Rohstoffe\, Ressourcen und nicht zuletzt auch Geld sparen\, man hilft oder lässt sich helfen\, lernt immer etwas dazu\, trifft nette Menschen oder trinkt einfach nur einen Kaffee. Für die Leckereien an der Cafétheke kooperieren wir mit foodsharing Esslingen\, einer Freiwilligenorganisation die Lebensmittel vor dem Wegwerfen rettet. Die Teilnahme am ReparaturCafé ist übrigens kostenlos\, wir freuen uns aber selbstverständlich über Spenden.
URL:https://wandelstadt-esslingen.de/event/reparaturcafe-esslingen-2/2026-08-15/
LOCATION:ZAK – Zentrum für Arbeit und Kommunikation\, Franziskanergasse 7\, Esslingen\, 73728
ATTACH;FMTTYPE=image/jpeg:https://wandelstadt-esslingen.de/wp-content/uploads/2024/02/230113_RC-Esslingen_Logo_Arial.jpg
END:VEVENT
END:VCALENDAR