BEGIN:VCALENDAR
VERSION:2.0
PRODID:-//Wandelstadt Esslingen - ECPv6.15.20//NONSGML v1.0//EN
CALSCALE:GREGORIAN
METHOD:PUBLISH
X-WR-CALNAME:Wandelstadt Esslingen
X-ORIGINAL-URL:https://wandelstadt-esslingen.de
X-WR-CALDESC:Veranstaltungen für Wandelstadt Esslingen
REFRESH-INTERVAL;VALUE=DURATION:PT1H
X-Robots-Tag:noindex
X-PUBLISHED-TTL:PT1H
BEGIN:VTIMEZONE
TZID:Europe/Berlin
BEGIN:DAYLIGHT
TZOFFSETFROM:+0100
TZOFFSETTO:+0200
TZNAME:CEST
DTSTART:20240331T010000
END:DAYLIGHT
BEGIN:STANDARD
TZOFFSETFROM:+0200
TZOFFSETTO:+0100
TZNAME:CET
DTSTART:20241027T010000
END:STANDARD
BEGIN:DAYLIGHT
TZOFFSETFROM:+0100
TZOFFSETTO:+0200
TZNAME:CEST
DTSTART:20250330T010000
END:DAYLIGHT
BEGIN:STANDARD
TZOFFSETFROM:+0200
TZOFFSETTO:+0100
TZNAME:CET
DTSTART:20251026T010000
END:STANDARD
BEGIN:DAYLIGHT
TZOFFSETFROM:+0100
TZOFFSETTO:+0200
TZNAME:CEST
DTSTART:20260329T010000
END:DAYLIGHT
BEGIN:STANDARD
TZOFFSETFROM:+0200
TZOFFSETTO:+0100
TZNAME:CET
DTSTART:20261025T010000
END:STANDARD
END:VTIMEZONE
BEGIN:VEVENT
DTSTART;TZID=Europe/Berlin:20250705T093000
DTEND;TZID=Europe/Berlin:20250705T093000
DTSTAMP:20260421T231204
CREATED:20250322T150504Z
LAST-MODIFIED:20250322T150712Z
UID:10004945-1751707800-1751707800@wandelstadt-esslingen.de
SUMMARY:Putzaktion in der Pliensauvorstadt
DESCRIPTION:Einmal im Quartal treffen wir uns Samstags ab 9:30 und sammeln in unserem Stadtteil Müll auf. Den bringen wir dann zum Bürgerhaus\, wo wir uns zusammensetzen und bei einer Pizza über die Aktion und vieles mehr austauschen.Hier ist jede und jeder herzlich willkommen und kann aktiv werden. \n  \nTreffpunkt ist jeweils am Bürgerhaus\, wo Zangen\, Beutel und anderes ausgegeben werden. Die Termine werden in unserer Terminübersicht angekündigt. Für 2025 haben wir vorgesehen: 25. Januar\, 5. April\, 5. Juli und 20. September. \nKoordiniert wird das Projekt durch Barbara Siegel-Schwilk.
URL:https://wandelstadt-esslingen.de/event/putzaktion-in-der-pliensauvorstadt/2025-07-05/
LOCATION:Mehrgenerationen- und Bürgerhaus Pliensauvorstadt\, Weilstr. 8\, Esslingen am Neckar\, Baden Württemberg\, 73734\, Deutschland
ORGANIZER;CN="F%C3%B6rderverein Pliensauvorstadt e.V.":MAILTO:fv@fv-pvs.de
END:VEVENT
END:VCALENDAR