BEGIN:VCALENDAR
VERSION:2.0
PRODID:-//Wandelstadt Esslingen - ECPv6.15.20//NONSGML v1.0//EN
CALSCALE:GREGORIAN
METHOD:PUBLISH
X-WR-CALNAME:Wandelstadt Esslingen
X-ORIGINAL-URL:https://wandelstadt-esslingen.de
X-WR-CALDESC:Veranstaltungen für Wandelstadt Esslingen
REFRESH-INTERVAL;VALUE=DURATION:PT1H
X-Robots-Tag:noindex
X-PUBLISHED-TTL:PT1H
BEGIN:VTIMEZONE
TZID:Europe/Berlin
BEGIN:DAYLIGHT
TZOFFSETFROM:+0100
TZOFFSETTO:+0200
TZNAME:CEST
DTSTART:20240331T010000
END:DAYLIGHT
BEGIN:STANDARD
TZOFFSETFROM:+0200
TZOFFSETTO:+0100
TZNAME:CET
DTSTART:20241027T010000
END:STANDARD
BEGIN:DAYLIGHT
TZOFFSETFROM:+0100
TZOFFSETTO:+0200
TZNAME:CEST
DTSTART:20250330T010000
END:DAYLIGHT
BEGIN:STANDARD
TZOFFSETFROM:+0200
TZOFFSETTO:+0100
TZNAME:CET
DTSTART:20251026T010000
END:STANDARD
BEGIN:DAYLIGHT
TZOFFSETFROM:+0100
TZOFFSETTO:+0200
TZNAME:CEST
DTSTART:20260329T010000
END:DAYLIGHT
BEGIN:STANDARD
TZOFFSETFROM:+0200
TZOFFSETTO:+0100
TZNAME:CET
DTSTART:20261025T010000
END:STANDARD
END:VTIMEZONE
BEGIN:VEVENT
DTSTART;TZID=Europe/Berlin:20250326T180000
DTEND;TZID=Europe/Berlin:20250326T200000
DTSTAMP:20260421T200316
CREATED:20250223T072537Z
LAST-MODIFIED:20250223T072537Z
UID:4320-1743012000-1743019200@wandelstadt-esslingen.de
SUMMARY:Psychische Gesundheit in der digitalen Welt
DESCRIPTION:TrialogischES ist ein Erfahrungsaustausch zwischen Betroffenen\, Angehörigen und Fachkräften rund um das Thema psychische Gesundheit. \nDie Gespräche werden dabei von einem Moderationsteam geleitet. \nDie Teilnahme ist kostenlos und die Räumlichkeiten sind barrierefrei. \nBei Fragen wenden Sie sich gerne an:\ntrialogisches@vsp-net.de\nGemeindepsychiatrische Dienste (GPD): 0711 3512 – 2451\nZentrum für Arbeit und Kommunikation (ZAK): 0711 3105 – 9930
URL:https://wandelstadt-esslingen.de/event/psychische-gesundheit-in-der-digitalen-welt/
LOCATION:Forum Esslingen – Zentrum für Bürgerengagement\, Schelztorstraße 38\, Esslingen\, Deutschland
END:VEVENT
END:VCALENDAR