BEGIN:VCALENDAR
VERSION:2.0
PRODID:-//Wandelstadt Esslingen - ECPv6.15.20//NONSGML v1.0//EN
CALSCALE:GREGORIAN
METHOD:PUBLISH
X-WR-CALNAME:Wandelstadt Esslingen
X-ORIGINAL-URL:https://wandelstadt-esslingen.de
X-WR-CALDESC:Veranstaltungen für Wandelstadt Esslingen
REFRESH-INTERVAL;VALUE=DURATION:PT1H
X-Robots-Tag:noindex
X-PUBLISHED-TTL:PT1H
BEGIN:VTIMEZONE
TZID:Europe/Berlin
BEGIN:DAYLIGHT
TZOFFSETFROM:+0100
TZOFFSETTO:+0200
TZNAME:CEST
DTSTART:20230326T010000
END:DAYLIGHT
BEGIN:STANDARD
TZOFFSETFROM:+0200
TZOFFSETTO:+0100
TZNAME:CET
DTSTART:20231029T010000
END:STANDARD
BEGIN:DAYLIGHT
TZOFFSETFROM:+0100
TZOFFSETTO:+0200
TZNAME:CEST
DTSTART:20240331T010000
END:DAYLIGHT
BEGIN:STANDARD
TZOFFSETFROM:+0200
TZOFFSETTO:+0100
TZNAME:CET
DTSTART:20241027T010000
END:STANDARD
BEGIN:DAYLIGHT
TZOFFSETFROM:+0100
TZOFFSETTO:+0200
TZNAME:CEST
DTSTART:20250330T010000
END:DAYLIGHT
BEGIN:STANDARD
TZOFFSETFROM:+0200
TZOFFSETTO:+0100
TZNAME:CET
DTSTART:20251026T010000
END:STANDARD
END:VTIMEZONE
BEGIN:VEVENT
DTSTART;TZID=Europe/Berlin:20241205T090000
DTEND;TZID=Europe/Berlin:20241205T103000
DTSTAMP:20260422T033408
CREATED:20241130T120142Z
LAST-MODIFIED:20241130T120327Z
UID:3923-1733389200-1733394600@wandelstadt-esslingen.de
SUMMARY:Potenziale der Ressourceneffizienz durch Additive Fertigung
DESCRIPTION:KMU: Schlüssel zum meistern der Klimakrise \nKostenfreie Onlinereihe 2024 – Material- und Energieeffizienz \nVom Leichtbau bis zur schnellen Prototypenfertigung: Potenziale der Ressourceneffizienz durch Additive Fertigung \nProf. Dr. Volker Schulz | DHBW Mannheim \n„Die Additive Fertigung bietet neue Möglichkeiten des Bauteildesigns\, die auf verschiedenen Ebenen zur Ressourceneffizienz beitragen können.“ \n  \nANMELDUNG ZU DEN ONLINE-VERANSTALTUNGEN \nDie Veranstaltungen sind kostenfrei. Alle Vorträge finden online per Zoom statt. Wir bitten um Anmeldung aller Personen unter Angabe der Namen bis spätestens eine Woche vor der gewünschten Veranstaltung bei Dr.-Ing. Michael Heim: michael.heim@keffplus-bw.de
URL:https://wandelstadt-esslingen.de/event/potenziale-der-ressourceneffizienz-durch-additive-fertigung/
LOCATION:online
CATEGORIES:Infoveranstaltung
END:VEVENT
END:VCALENDAR