BEGIN:VCALENDAR
VERSION:2.0
PRODID:-//Wandelstadt Esslingen - ECPv6.15.20//NONSGML v1.0//EN
CALSCALE:GREGORIAN
METHOD:PUBLISH
X-WR-CALNAME:Wandelstadt Esslingen
X-ORIGINAL-URL:https://wandelstadt-esslingen.de
X-WR-CALDESC:Veranstaltungen für Wandelstadt Esslingen
REFRESH-INTERVAL;VALUE=DURATION:PT1H
X-Robots-Tag:noindex
X-PUBLISHED-TTL:PT1H
BEGIN:VTIMEZONE
TZID:Europe/Berlin
BEGIN:DAYLIGHT
TZOFFSETFROM:+0100
TZOFFSETTO:+0200
TZNAME:CEST
DTSTART:20250330T010000
END:DAYLIGHT
BEGIN:STANDARD
TZOFFSETFROM:+0200
TZOFFSETTO:+0100
TZNAME:CET
DTSTART:20251026T010000
END:STANDARD
BEGIN:DAYLIGHT
TZOFFSETFROM:+0100
TZOFFSETTO:+0200
TZNAME:CEST
DTSTART:20260329T010000
END:DAYLIGHT
BEGIN:STANDARD
TZOFFSETFROM:+0200
TZOFFSETTO:+0100
TZNAME:CET
DTSTART:20261025T010000
END:STANDARD
BEGIN:DAYLIGHT
TZOFFSETFROM:+0100
TZOFFSETTO:+0200
TZNAME:CEST
DTSTART:20270328T010000
END:DAYLIGHT
BEGIN:STANDARD
TZOFFSETFROM:+0200
TZOFFSETTO:+0100
TZNAME:CET
DTSTART:20271031T010000
END:STANDARD
END:VTIMEZONE
BEGIN:VEVENT
DTSTART;TZID=Europe/Berlin:20260422T193000
DTEND;TZID=Europe/Berlin:20260422T220000
DTSTAMP:20260424T180246
CREATED:20260122T144537Z
LAST-MODIFIED:20260323T140744Z
UID:7827-1776886200-1776895200@wandelstadt-esslingen.de
SUMMARY:Podiumsdiskussion – Kolonialgeschichte West- & Zentralafrika und die europäische Verantwortung heute
DESCRIPTION:Wie wirkt die koloniale Vergangenheit West- und Zentralafrikas bis heute nach? Welche Verantwortung trägt Europa\, und wie kann eine gerechte Aufarbeitung gelingen? Diese Fragen stehen im Zentrum einer Podiumsdiskussion mit Theodor-Haecker-Preisträger Philip Obaji Jr.\, dem Journalisten und Autor Issio Ehrich sowie Vertreterinnen des Europäischen Parlaments. Gemeinsam beleuchten sie historische Zusammenhänge\, aktuelle politische Entwicklungen und Perspektiven für eine verantwortungsvolle Zusammenarbeit zwischen Europa und Afrika.
URL:https://wandelstadt-esslingen.de/event/podiumsdiskussion-kolonialgeschichte-west-zentralafrika-und-die-europaeische-verantwortung-heute/
LOCATION:KOMMA Esslingen\, Maille 5-9\, Esslingen\, 73728\, Deutschland
ORGANIZER;CN="Volkshochschule Esslingen":MAILTO:info@vhs-esslingen.de
END:VEVENT
END:VCALENDAR