BEGIN:VCALENDAR
VERSION:2.0
PRODID:-//Wandelstadt Esslingen - ECPv6.15.20//NONSGML v1.0//EN
CALSCALE:GREGORIAN
METHOD:PUBLISH
X-WR-CALNAME:Wandelstadt Esslingen
X-ORIGINAL-URL:https://wandelstadt-esslingen.de
X-WR-CALDESC:Veranstaltungen für Wandelstadt Esslingen
REFRESH-INTERVAL;VALUE=DURATION:PT1H
X-Robots-Tag:noindex
X-PUBLISHED-TTL:PT1H
BEGIN:VTIMEZONE
TZID:Europe/Berlin
BEGIN:DAYLIGHT
TZOFFSETFROM:+0100
TZOFFSETTO:+0200
TZNAME:CEST
DTSTART:20230326T010000
END:DAYLIGHT
BEGIN:STANDARD
TZOFFSETFROM:+0200
TZOFFSETTO:+0100
TZNAME:CET
DTSTART:20231029T010000
END:STANDARD
BEGIN:DAYLIGHT
TZOFFSETFROM:+0100
TZOFFSETTO:+0200
TZNAME:CEST
DTSTART:20240331T010000
END:DAYLIGHT
BEGIN:STANDARD
TZOFFSETFROM:+0200
TZOFFSETTO:+0100
TZNAME:CET
DTSTART:20241027T010000
END:STANDARD
BEGIN:DAYLIGHT
TZOFFSETFROM:+0100
TZOFFSETTO:+0200
TZNAME:CEST
DTSTART:20250330T010000
END:DAYLIGHT
BEGIN:STANDARD
TZOFFSETFROM:+0200
TZOFFSETTO:+0100
TZNAME:CET
DTSTART:20251026T010000
END:STANDARD
END:VTIMEZONE
BEGIN:VEVENT
DTSTART;TZID=Europe/Berlin:20240706T214500
DTEND;TZID=Europe/Berlin:20240706T214500
DTSTAMP:20260422T234805
CREATED:20240622T082826Z
LAST-MODIFIED:20240622T155804Z
UID:10003040-1720302300-1720302300@wandelstadt-esslingen.de
SUMMARY:Parklücke-Festival 2024
DESCRIPTION:Vom 27. Juni bis zum 20. Juli geht das Parklücke Festival 2024 bereits ins fünfte Jahr: Der sonst so graue Parkplatz vor dem Kulturzentrum Dieselstrasse verwandelt sich zu einem bunten Ort der Begegnung und kulturellen Aktivität. Über drei Wochen hinweg bietet das Kulturzentrum ein liebevoll kuratiertes und vielfältiges Konzertprogramm für alle Generationen. Das Gelände gestalten rund 25 ehrenamtliche Helfer*innen\, die diese einzigartige Parklücke mit ihrem Engagement erst möglich machen. Mit dem Festival wird ein nicht-kommerzieller Ort für Kunst und Kultur in Esslingen geschaffen\, der ohne Konsumzwang und bei freiem Eintritt dazu einlädt\, Musik und Kunst zu genießen und zu verweilen. \nDer Eintritt zu allen Veranstaltungen ist kostenlos Spenden sind erwünscht. \nBitte unterstützt uns nach Möglichkeit bei der Finanzierung des Festivals. \nWichige Infos: \n– Bei schlechtem Wetter finden die Veranstaltungen im Saal statt.\n– Wir bieten kein Essen an. Fühlt euch frei\, euch etwas mitzubringen oder vor Ort etwas zu bestellen.\n– Bei Einzug der deutschen Mannschaft ins Achtel- bzw. Viertelfinale (29. Juni bzw. 05. Juli) zeigen wir das jeweilige Spiel um 18 oder 21 Uhr in kleinem Rahmen auf dem Festivalgelände. Wir haben Lust auf Fußball – auf Fahnen und Flaggen aber eher nicht. Bitte nehmt darauf Rücksicht. \nInhaltlich bewegen sich die Konzert von DJ-Tunes über Indie-Pop und Folk zu Singer und Songwriter.\nAuf der Veranstaltungswebsite findet sich\, wer an diesem Abend auftritt.
URL:https://wandelstadt-esslingen.de/event/parkluecke-festival-2024/2024-07-06/
ORGANIZER;CN="Kulturzentrum Dieselstrasse":MAILTO:info@dieselstrasse.de
END:VEVENT
END:VCALENDAR