BEGIN:VCALENDAR
VERSION:2.0
PRODID:-//Wandelstadt Esslingen - ECPv6.15.20//NONSGML v1.0//EN
CALSCALE:GREGORIAN
METHOD:PUBLISH
X-WR-CALNAME:Wandelstadt Esslingen
X-ORIGINAL-URL:https://wandelstadt-esslingen.de
X-WR-CALDESC:Veranstaltungen für Wandelstadt Esslingen
REFRESH-INTERVAL;VALUE=DURATION:PT1H
X-Robots-Tag:noindex
X-PUBLISHED-TTL:PT1H
BEGIN:VTIMEZONE
TZID:Europe/Berlin
BEGIN:DAYLIGHT
TZOFFSETFROM:+0100
TZOFFSETTO:+0200
TZNAME:CEST
DTSTART:20240331T010000
END:DAYLIGHT
BEGIN:STANDARD
TZOFFSETFROM:+0200
TZOFFSETTO:+0100
TZNAME:CET
DTSTART:20241027T010000
END:STANDARD
BEGIN:DAYLIGHT
TZOFFSETFROM:+0100
TZOFFSETTO:+0200
TZNAME:CEST
DTSTART:20250330T010000
END:DAYLIGHT
BEGIN:STANDARD
TZOFFSETFROM:+0200
TZOFFSETTO:+0100
TZNAME:CET
DTSTART:20251026T010000
END:STANDARD
BEGIN:DAYLIGHT
TZOFFSETFROM:+0100
TZOFFSETTO:+0200
TZNAME:CEST
DTSTART:20260329T010000
END:DAYLIGHT
BEGIN:STANDARD
TZOFFSETFROM:+0200
TZOFFSETTO:+0100
TZNAME:CET
DTSTART:20261025T010000
END:STANDARD
END:VTIMEZONE
BEGIN:VEVENT
DTSTART;TZID=Europe/Berlin:20250327T140000
DTEND;TZID=Europe/Berlin:20250327T160000
DTSTAMP:20260421T195020
CREATED:20250313T121357Z
LAST-MODIFIED:20250313T121357Z
UID:4426-1743084000-1743091200@wandelstadt-esslingen.de
SUMMARY:Papierrosen aus Büchern
DESCRIPTION:Lerne\, wie du die die tollen Papierrosen selbst und einfach herstellen  kannst. Verschenke zukünftig nachhaltige Blumen(sträuße) oder stelle sie als Dekoration bei dir zuhause auf. \nMaterial ist vorhanden\, keine Vorkenntnisse notwendig\, ohne Anmeldung während der Zeit vorbeischauen. Wir freuen uns auf dich.
URL:https://wandelstadt-esslingen.de/event/papierrosen-aus-buechern/
LOCATION:eva’s Ottilie\, Ottilienplatz 3\, Esslingen\, 73728
ORGANIZER;CN="eva's Ottilie":MAILTO:evas-ottilie-es@eva-stuttgart.de
END:VEVENT
END:VCALENDAR