BEGIN:VCALENDAR
VERSION:2.0
PRODID:-//Wandelstadt Esslingen - ECPv6.15.20//NONSGML v1.0//EN
CALSCALE:GREGORIAN
METHOD:PUBLISH
X-WR-CALNAME:Wandelstadt Esslingen
X-ORIGINAL-URL:https://wandelstadt-esslingen.de
X-WR-CALDESC:Veranstaltungen für Wandelstadt Esslingen
REFRESH-INTERVAL;VALUE=DURATION:PT1H
X-Robots-Tag:noindex
X-PUBLISHED-TTL:PT1H
BEGIN:VTIMEZONE
TZID:Europe/Berlin
BEGIN:DAYLIGHT
TZOFFSETFROM:+0100
TZOFFSETTO:+0200
TZNAME:CEST
DTSTART:20240331T010000
END:DAYLIGHT
BEGIN:STANDARD
TZOFFSETFROM:+0200
TZOFFSETTO:+0100
TZNAME:CET
DTSTART:20241027T010000
END:STANDARD
BEGIN:DAYLIGHT
TZOFFSETFROM:+0100
TZOFFSETTO:+0200
TZNAME:CEST
DTSTART:20250330T010000
END:DAYLIGHT
BEGIN:STANDARD
TZOFFSETFROM:+0200
TZOFFSETTO:+0100
TZNAME:CET
DTSTART:20251026T010000
END:STANDARD
BEGIN:DAYLIGHT
TZOFFSETFROM:+0100
TZOFFSETTO:+0200
TZNAME:CEST
DTSTART:20260329T010000
END:DAYLIGHT
BEGIN:STANDARD
TZOFFSETFROM:+0200
TZOFFSETTO:+0100
TZNAME:CET
DTSTART:20261025T010000
END:STANDARD
END:VTIMEZONE
BEGIN:VEVENT
DTSTART;TZID=Europe/Berlin:20250123T150000
DTEND;TZID=Europe/Berlin:20250123T170000
DTSTAMP:20260422T155709
CREATED:20241230T153008Z
LAST-MODIFIED:20241230T153008Z
UID:10004535-1737644400-1737651600@wandelstadt-esslingen.de
SUMMARY:Papierkörbe flechten Teil 1 -Papierröllchen anfertigen-
DESCRIPTION:Wir wollen Papierkörbe o.ä. flechten\, doch hierfür benötigen wir erst einmal Papierröllchen\, die in Teil 2 des Workshops verarbeitet werden können. Sei von Grund auf dabei und lerne wie du die Röllchen herstellen kannst. Wir haben Zeitungspapier und alles an Material vor Ort\, du brauchst also nichts mitbringen. Keine Vorkenntnisse nötig\, kostenfrei und du kannst flexibel innerhalb der angegebenen Zeit dazustoßen. \n 
URL:https://wandelstadt-esslingen.de/event/papierkoerbe-flechten-teil-1-papierroellchen-anfertigen/2025-01-23/
LOCATION:eva’s Ottilie\, Ottilienplatz 3\, Esslingen\, 73728
ORGANIZER;CN="eva's Ottilie":MAILTO:evas-ottilie-es@eva-stuttgart.de
END:VEVENT
END:VCALENDAR