BEGIN:VCALENDAR
VERSION:2.0
PRODID:-//Wandelstadt Esslingen - ECPv6.15.20//NONSGML v1.0//EN
CALSCALE:GREGORIAN
METHOD:PUBLISH
X-WR-CALNAME:Wandelstadt Esslingen
X-ORIGINAL-URL:https://wandelstadt-esslingen.de
X-WR-CALDESC:Veranstaltungen für Wandelstadt Esslingen
REFRESH-INTERVAL;VALUE=DURATION:PT1H
X-Robots-Tag:noindex
X-PUBLISHED-TTL:PT1H
BEGIN:VTIMEZONE
TZID:Europe/Berlin
BEGIN:DAYLIGHT
TZOFFSETFROM:+0100
TZOFFSETTO:+0200
TZNAME:CEST
DTSTART:20220327T010000
END:DAYLIGHT
BEGIN:STANDARD
TZOFFSETFROM:+0200
TZOFFSETTO:+0100
TZNAME:CET
DTSTART:20221030T010000
END:STANDARD
BEGIN:DAYLIGHT
TZOFFSETFROM:+0100
TZOFFSETTO:+0200
TZNAME:CEST
DTSTART:20230326T010000
END:DAYLIGHT
BEGIN:STANDARD
TZOFFSETFROM:+0200
TZOFFSETTO:+0100
TZNAME:CET
DTSTART:20231029T010000
END:STANDARD
BEGIN:DAYLIGHT
TZOFFSETFROM:+0100
TZOFFSETTO:+0200
TZNAME:CEST
DTSTART:20240331T010000
END:DAYLIGHT
BEGIN:STANDARD
TZOFFSETFROM:+0200
TZOFFSETTO:+0100
TZNAME:CET
DTSTART:20241027T010000
END:STANDARD
END:VTIMEZONE
BEGIN:VEVENT
DTSTART;TZID=Europe/Berlin:20230629T180000
DTEND;TZID=Europe/Berlin:20230629T180000
DTSTAMP:20260424T174443
CREATED:20230425T145954Z
LAST-MODIFIED:20230530T153505Z
UID:1711-1688061600-1688061600@wandelstadt-esslingen.de
SUMMARY:Wahl und Einwohnerversammlung Bürgerausschuss Oberesslingen
DESCRIPTION:Wahl Bügerausschuss Oberesslingen\nDie Einreichung von Kandidaturen für den Bürgerausschuss Oberesslingen erfolgt bis 2. Juni digital über das Online-Portal. \nDie Wahl des Bürgerausschusses ist vom 15.-25. Juni über das Online-Portal möglich. Zudem besteht die Möglichkeit\, am Abend der Einwohnerversammlung von 18 Uhr bis 18:45 Uhr vor Ort abzustimmen. Als Nachweis der Wahlberechtigung vor Ort muss ein gültiges Ausweisdokument vorgelegt werden. \nEinwohnerversammlung Oberesslingen\nFür die Einwohnerversammlung am Donnerstag\, 29. Juni um 19 Uhr in der Turn- und Versammlungshalle Oberesslingen in der Schorndorfer Straße 48 konnten die Einwohnerinnen und Einwohner Oberesslingens vom 4. bis 11. Mai ihre Themenwünsche im Online-Portal einreichen. \nDie eingereichten Themen wurden nach der einwöchigen Einreichungsfrist thematisch zusammengefasst und ab dem 12. Mai wiederum der Bürgerschaft zur Abstimmung gegeben. Die drei Themen mit den meisten Stimmen kommen auf die Tagesordnung der Versammlung. Vom Bürgerausschuss werden ebenfalls zwei Themen auf die Tagesordnung gesetzt. \nInformationen zur Wahl und zum Verfahren unter: https://www.esslingen.de/stadt-und-politik/politik/buergerausschuesse/einwohnerversammlung
URL:https://wandelstadt-esslingen.de/event/onlinewahl-fuer-buergerausschuss-oberesslingen/
LOCATION:Turn- und Versammlungshalle Oberesslingen\, Schorndorferstr. 48\, Esslingen
END:VEVENT
END:VCALENDAR