BEGIN:VCALENDAR
VERSION:2.0
PRODID:-//Wandelstadt Esslingen - ECPv6.15.20//NONSGML v1.0//EN
CALSCALE:GREGORIAN
METHOD:PUBLISH
X-WR-CALNAME:Wandelstadt Esslingen
X-ORIGINAL-URL:https://wandelstadt-esslingen.de
X-WR-CALDESC:Veranstaltungen für Wandelstadt Esslingen
REFRESH-INTERVAL;VALUE=DURATION:PT1H
X-Robots-Tag:noindex
X-PUBLISHED-TTL:PT1H
BEGIN:VTIMEZONE
TZID:Europe/Berlin
BEGIN:DAYLIGHT
TZOFFSETFROM:+0100
TZOFFSETTO:+0200
TZNAME:CEST
DTSTART:20230326T010000
END:DAYLIGHT
BEGIN:STANDARD
TZOFFSETFROM:+0200
TZOFFSETTO:+0100
TZNAME:CET
DTSTART:20231029T010000
END:STANDARD
BEGIN:DAYLIGHT
TZOFFSETFROM:+0100
TZOFFSETTO:+0200
TZNAME:CEST
DTSTART:20240331T010000
END:DAYLIGHT
BEGIN:STANDARD
TZOFFSETFROM:+0200
TZOFFSETTO:+0100
TZNAME:CET
DTSTART:20241027T010000
END:STANDARD
BEGIN:DAYLIGHT
TZOFFSETFROM:+0100
TZOFFSETTO:+0200
TZNAME:CEST
DTSTART:20250330T010000
END:DAYLIGHT
BEGIN:STANDARD
TZOFFSETFROM:+0200
TZOFFSETTO:+0100
TZNAME:CET
DTSTART:20251026T010000
END:STANDARD
END:VTIMEZONE
BEGIN:VEVENT
DTSTART;TZID=Europe/Berlin:20241210T190000
DTEND;TZID=Europe/Berlin:20241210T220000
DTSTAMP:20260425T174835
CREATED:20241130T114009Z
LAST-MODIFIED:20241130T114009Z
UID:3906-1733857200-1733868000@wandelstadt-esslingen.de
SUMMARY:Online-Seminar "Selbstinstallation ( DIY ) von Photovoltaik-Anlagen"
DESCRIPTION:Interaktives Online-Seminar\n\nÖkostrom für 10 Cent die kWh mit einer selbst installierten Photovoltaikanlage! Wie das sicher und ganz legal funktioniert\, wenn man handwerklich begabt ist\, wird hier erklärt. \nDabei stehen folgende Fragen im Mittelpunkt: \n\nZeitlicher Ablauf\nPlanungstätigkeit\nBefestigung der Solaranlage (PV-Module und Wechselrichter)\nModul- und Wechselrichterauswahl\nUnterschied Modul- versus Stringwechselrichter\nWie kann man mehr als ein Balkonkraftwerk als eine gemeinsame PV-Anlagen betreiben?\nWas muss ein Elektriker machen\, was kann man selbst machen?\n\nDie Lernenden können am Ende des Webinars unterschiedliche Systeme analysieren und auf die eigene Situation bei sich zu Hause anpassen. \nJede:r Teilnehmer:in bekommt die Unterlagen\, um alles nachzuvollziehen. \nVoraussetzung für den Kurs: Die Teilnehmer:inne sollten an den Kursen „Balkonkraftwerke“ UND „Photovoltaikanlage“ teilgenommen haben.
URL:https://wandelstadt-esslingen.de/event/online-seminar-selbstinstallation-diy-von-photovoltaik-anlagen/
LOCATION:online
CATEGORIES:Infoveranstaltung
ORGANIZER;CN="Volkshochschule Esslingen":MAILTO:info@vhs-esslingen.de
END:VEVENT
END:VCALENDAR