BEGIN:VCALENDAR
VERSION:2.0
PRODID:-//Wandelstadt Esslingen - ECPv6.15.20//NONSGML v1.0//EN
CALSCALE:GREGORIAN
METHOD:PUBLISH
X-WR-CALNAME:Wandelstadt Esslingen
X-ORIGINAL-URL:https://wandelstadt-esslingen.de
X-WR-CALDESC:Veranstaltungen für Wandelstadt Esslingen
REFRESH-INTERVAL;VALUE=DURATION:PT1H
X-Robots-Tag:noindex
X-PUBLISHED-TTL:PT1H
BEGIN:VTIMEZONE
TZID:Europe/Berlin
BEGIN:DAYLIGHT
TZOFFSETFROM:+0100
TZOFFSETTO:+0200
TZNAME:CEST
DTSTART:20240331T010000
END:DAYLIGHT
BEGIN:STANDARD
TZOFFSETFROM:+0200
TZOFFSETTO:+0100
TZNAME:CET
DTSTART:20241027T010000
END:STANDARD
BEGIN:DAYLIGHT
TZOFFSETFROM:+0100
TZOFFSETTO:+0200
TZNAME:CEST
DTSTART:20250330T010000
END:DAYLIGHT
BEGIN:STANDARD
TZOFFSETFROM:+0200
TZOFFSETTO:+0100
TZNAME:CET
DTSTART:20251026T010000
END:STANDARD
BEGIN:DAYLIGHT
TZOFFSETFROM:+0100
TZOFFSETTO:+0200
TZNAME:CEST
DTSTART:20260329T010000
END:DAYLIGHT
BEGIN:STANDARD
TZOFFSETFROM:+0200
TZOFFSETTO:+0100
TZNAME:CET
DTSTART:20261025T010000
END:STANDARD
END:VTIMEZONE
BEGIN:VEVENT
DTSTART;TZID=Europe/Berlin:20250622T140000
DTEND;TZID=Europe/Berlin:20250622T200000
DTSTAMP:20260421T234914
CREATED:20250526T164639Z
LAST-MODIFIED:20250526T164639Z
UID:5026-1750600800-1750622400@wandelstadt-esslingen.de
SUMMARY:Onkel Oscars queerer Garten
DESCRIPTION:Nach der Demo & Party am Samstag lassen wir das CSD-Wochenende entspannt ausklingen – mit ChillOut-Musik\, Picknick und guter Gesellschaft im Grünen. Kommt vorbei\, bringt Decken & Snacks mit und genießt den queeren Sonntag in Onkel Oskars queerem Garten– für die LGBTQIA* Community & ihre Allys. Queer. Proud. Peaceful. \n 
URL:https://wandelstadt-esslingen.de/event/onkel-oscars-queerer-garten/
CATEGORIES:Gemütliches Treffen
END:VEVENT
END:VCALENDAR