BEGIN:VCALENDAR
VERSION:2.0
PRODID:-//Wandelstadt Esslingen - ECPv6.15.20//NONSGML v1.0//EN
CALSCALE:GREGORIAN
METHOD:PUBLISH
X-WR-CALNAME:Wandelstadt Esslingen
X-ORIGINAL-URL:https://wandelstadt-esslingen.de
X-WR-CALDESC:Veranstaltungen für Wandelstadt Esslingen
REFRESH-INTERVAL;VALUE=DURATION:PT1H
X-Robots-Tag:noindex
X-PUBLISHED-TTL:PT1H
BEGIN:VTIMEZONE
TZID:Europe/Berlin
BEGIN:DAYLIGHT
TZOFFSETFROM:+0100
TZOFFSETTO:+0200
TZNAME:CEST
DTSTART:20250330T010000
END:DAYLIGHT
BEGIN:STANDARD
TZOFFSETFROM:+0200
TZOFFSETTO:+0100
TZNAME:CET
DTSTART:20251026T010000
END:STANDARD
BEGIN:DAYLIGHT
TZOFFSETFROM:+0100
TZOFFSETTO:+0200
TZNAME:CEST
DTSTART:20260329T010000
END:DAYLIGHT
BEGIN:STANDARD
TZOFFSETFROM:+0200
TZOFFSETTO:+0100
TZNAME:CET
DTSTART:20261025T010000
END:STANDARD
BEGIN:DAYLIGHT
TZOFFSETFROM:+0100
TZOFFSETTO:+0200
TZNAME:CEST
DTSTART:20270328T010000
END:DAYLIGHT
BEGIN:STANDARD
TZOFFSETFROM:+0200
TZOFFSETTO:+0100
TZNAME:CET
DTSTART:20271031T010000
END:STANDARD
END:VTIMEZONE
BEGIN:VEVENT
DTSTART;TZID=Europe/Berlin:20260224T190000
DTEND;TZID=Europe/Berlin:20260224T210000
DTSTAMP:20260421T215417
CREATED:20250917T125233Z
LAST-MODIFIED:20260201T171650Z
UID:6357-1771959600-1771966800@wandelstadt-esslingen.de
SUMMARY:Energieabend - Balkonkraftwerke mit Speicher – Theorie und Umsetzung anhand eines realen Beispiels
DESCRIPTION:Wie viel Energie steckt wirklich in einem Balkonkraftwerk mit Speicher? Dieser Vortragsabend zeigt verständlich und praxisnah\, welche Komponenten entscheidend sind\, welche All-in-One-Systeme der Markt aktuell bietet und wie sie sich unterscheiden. Anhand eines realen Projekts erfahren Sie\, wie groß der Ertrag in der Theorie ist – und was davon im Alltag tatsächlich ankommt. \nAnmeldung: energie@klimagerechtigkeit-esslingen.de
URL:https://wandelstadt-esslingen.de/event/oeffentlicher-energieabend/
LOCATION:Mehrgenerationen- und Bürgerhaus Pliensauvorstadt\, Weilstr. 8\, Esslingen am Neckar\, Baden Württemberg\, 73734\, Deutschland
END:VEVENT
END:VCALENDAR