BEGIN:VCALENDAR
VERSION:2.0
PRODID:-//Wandelstadt Esslingen - ECPv6.15.20//NONSGML v1.0//EN
CALSCALE:GREGORIAN
METHOD:PUBLISH
X-WR-CALNAME:Wandelstadt Esslingen
X-ORIGINAL-URL:https://wandelstadt-esslingen.de
X-WR-CALDESC:Veranstaltungen für Wandelstadt Esslingen
REFRESH-INTERVAL;VALUE=DURATION:PT1H
X-Robots-Tag:noindex
X-PUBLISHED-TTL:PT1H
BEGIN:VTIMEZONE
TZID:Europe/Berlin
BEGIN:DAYLIGHT
TZOFFSETFROM:+0100
TZOFFSETTO:+0200
TZNAME:CEST
DTSTART:20240331T010000
END:DAYLIGHT
BEGIN:STANDARD
TZOFFSETFROM:+0200
TZOFFSETTO:+0100
TZNAME:CET
DTSTART:20241027T010000
END:STANDARD
BEGIN:DAYLIGHT
TZOFFSETFROM:+0100
TZOFFSETTO:+0200
TZNAME:CEST
DTSTART:20250330T010000
END:DAYLIGHT
BEGIN:STANDARD
TZOFFSETFROM:+0200
TZOFFSETTO:+0100
TZNAME:CET
DTSTART:20251026T010000
END:STANDARD
BEGIN:DAYLIGHT
TZOFFSETFROM:+0100
TZOFFSETTO:+0200
TZNAME:CEST
DTSTART:20260329T010000
END:DAYLIGHT
BEGIN:STANDARD
TZOFFSETFROM:+0200
TZOFFSETTO:+0100
TZNAME:CET
DTSTART:20261025T010000
END:STANDARD
END:VTIMEZONE
BEGIN:VEVENT
DTSTART;TZID=Europe/Berlin:20250510T150000
DTEND;TZID=Europe/Berlin:20250510T170000
DTSTAMP:20260422T023759
CREATED:20250427T082405Z
LAST-MODIFIED:20250427T090848Z
UID:4786-1746889200-1746896400@wandelstadt-esslingen.de
SUMMARY:Naturnahe Gärten
DESCRIPTION:Tipps und Tricks für einen insektenfreundlichen Garten\n\n\nBlühende Stauden\, bunte Schmetterlinge und zwitschernde Vögel – klingt das nicht nach einem paradiesischen Garten?  – Mit nur wenig Aufwand oder Vorwissen können wir der heimischen Pflanzen- und Tierwelt einen Lebensraum bieten. Ob privater Garten oder gewerblich genutztes Gebiet: Auch die kleinste Fläche kann einen großen Beitrag zum Natur- und Umweltschutz leisten und kann dabei auch noch gut aussehen. Legen Sie Ihren Garten so an\, dass Sie sich dort genauso wohlfühlen wie Tagpfauenauge\, Zaunkönig und Erdhummel! \nIm Rahmen eines Rundgangs durch den Garten der Familie Eppinger lernen Sie einfach umsetzbare Naturgartenelemente kennen. Weitere Anleitungen finden Sie in einer vor Ort erhältlichen Broschüre. \n\n\nTreffpunkt: Esslingen-Rüdern\, Uhlbacher Str. 68
URL:https://wandelstadt-esslingen.de/event/naturnahe-gaerten/
CATEGORIES:Infoveranstaltung
END:VEVENT
END:VCALENDAR