BEGIN:VCALENDAR
VERSION:2.0
PRODID:-//Wandelstadt Esslingen - ECPv6.15.20//NONSGML v1.0//EN
CALSCALE:GREGORIAN
METHOD:PUBLISH
X-WR-CALNAME:Wandelstadt Esslingen
X-ORIGINAL-URL:https://wandelstadt-esslingen.de
X-WR-CALDESC:Veranstaltungen für Wandelstadt Esslingen
REFRESH-INTERVAL;VALUE=DURATION:PT1H
X-Robots-Tag:noindex
X-PUBLISHED-TTL:PT1H
BEGIN:VTIMEZONE
TZID:Europe/Berlin
BEGIN:DAYLIGHT
TZOFFSETFROM:+0100
TZOFFSETTO:+0200
TZNAME:CEST
DTSTART:20240331T010000
END:DAYLIGHT
BEGIN:STANDARD
TZOFFSETFROM:+0200
TZOFFSETTO:+0100
TZNAME:CET
DTSTART:20241027T010000
END:STANDARD
BEGIN:DAYLIGHT
TZOFFSETFROM:+0100
TZOFFSETTO:+0200
TZNAME:CEST
DTSTART:20250330T010000
END:DAYLIGHT
BEGIN:STANDARD
TZOFFSETFROM:+0200
TZOFFSETTO:+0100
TZNAME:CET
DTSTART:20251026T010000
END:STANDARD
BEGIN:DAYLIGHT
TZOFFSETFROM:+0100
TZOFFSETTO:+0200
TZNAME:CEST
DTSTART:20260329T010000
END:DAYLIGHT
BEGIN:STANDARD
TZOFFSETFROM:+0200
TZOFFSETTO:+0100
TZNAME:CET
DTSTART:20261025T010000
END:STANDARD
END:VTIMEZONE
BEGIN:VEVENT
DTSTART;TZID=Europe/Berlin:20250322T100000
DTEND;TZID=Europe/Berlin:20250322T120000
DTSTAMP:20260422T162226
CREATED:20250223T071739Z
LAST-MODIFIED:20250223T071739Z
UID:4314-1742637600-1742644800@wandelstadt-esslingen.de
SUMMARY:Nachhaltigkeit im Alltag mit foodsharing Esslingen
DESCRIPTION:Überraschungs-Frühstück \nWir starten mit einer frischen Brezel und Kaffee und bereiten dann gemeinsam aus geretteten Lebensmitteln ein Überraschungs-Buffet zu. Der foodsharing-Schrank vor der Friedenskirche trägt dazu bei\, sorgsamer mit Lebensmitteln umzugehen. Täglich wird er von Mitgliedern von foodsharing mit geretteten Lebensmitteln gefüllt und oft wandern Backwaren\, Obst und Gemüse direkt in den Taschen der Frauen aus der Nachbarschaft. Der Schrank ist wie auch die Givebox fester Bestandteil im Gemeindeleben der Friedenskirche. \nTeilnehmerinnen bitte eine saubere Schürze mitbringen. \nReferentinnen: Sonia Diemunsch und Lucy Hezinger\, Mitarbeiterinnen von foodsharing Esslingen \nVeranstaltungsort: Friedenskirche Esslingen\, Friedensstraße 9\, 73728 Esslingen am Neckar
URL:https://wandelstadt-esslingen.de/event/nachhaltigkeit-im-alltag-mit-foodsharing-esslingen/
LOCATION:Friedenskirche Esslingen\, Friedensstraße 9\, Esslingen am Neckar\, 73728\, Deutschland
END:VEVENT
END:VCALENDAR