BEGIN:VCALENDAR
VERSION:2.0
PRODID:-//Wandelstadt Esslingen - ECPv6.15.20//NONSGML v1.0//EN
CALSCALE:GREGORIAN
METHOD:PUBLISH
X-WR-CALNAME:Wandelstadt Esslingen
X-ORIGINAL-URL:https://wandelstadt-esslingen.de
X-WR-CALDESC:Veranstaltungen für Wandelstadt Esslingen
REFRESH-INTERVAL;VALUE=DURATION:PT1H
X-Robots-Tag:noindex
X-PUBLISHED-TTL:PT1H
BEGIN:VTIMEZONE
TZID:Europe/Berlin
BEGIN:DAYLIGHT
TZOFFSETFROM:+0100
TZOFFSETTO:+0200
TZNAME:CEST
DTSTART:20220327T010000
END:DAYLIGHT
BEGIN:STANDARD
TZOFFSETFROM:+0200
TZOFFSETTO:+0100
TZNAME:CET
DTSTART:20221030T010000
END:STANDARD
BEGIN:DAYLIGHT
TZOFFSETFROM:+0100
TZOFFSETTO:+0200
TZNAME:CEST
DTSTART:20230326T010000
END:DAYLIGHT
BEGIN:STANDARD
TZOFFSETFROM:+0200
TZOFFSETTO:+0100
TZNAME:CET
DTSTART:20231029T010000
END:STANDARD
BEGIN:DAYLIGHT
TZOFFSETFROM:+0100
TZOFFSETTO:+0200
TZNAME:CEST
DTSTART:20240331T010000
END:DAYLIGHT
BEGIN:STANDARD
TZOFFSETFROM:+0200
TZOFFSETTO:+0100
TZNAME:CET
DTSTART:20241027T010000
END:STANDARD
END:VTIMEZONE
BEGIN:VEVENT
DTSTART;VALUE=DATE:20231009
DTEND;VALUE=DATE:20231014
DTSTAMP:20260421T231034
CREATED:20230922T101947Z
LAST-MODIFIED:20230922T101947Z
UID:2163-1696809600-1697241599@wandelstadt-esslingen.de
SUMMARY:Mobilitätswoche der Hochschule Esslingen
DESCRIPTION:Welchen Beitrag können wir leisten\, um Mobilität nachhaltiger zu gestalten? Wie können wir unseren CO2-Ausstoß im Bereich Mobilität verringern? Wie sieht die Mobilität der Zukunft aus? Diesen Fragen widmet sich die Mobilitätswoche vom 9. bis 13. Oktober 2023. \nDie Mobilitätswoche bietet unter anderem Vorträge zu Forschungsprojekte\, wie „Anonymisierte Erfassung und Nutzung von Mobilitäts- und Bewegungsdaten“ und „Smart Mobility Integrated Living Environments“. \nIn Ausstellungen werden die Ergebnisse des Gestaltungswettbewerbs „Hochschulcampus Stadtmitte“ und der Umfrage zum Mobilitätsverhalten sowie Mobilitätsprojekte der Fakultät Mobilität und Technik und weitere Projekte vorgestellt. \nAuch an Aktionen ist einiges geboten. Unter anderem können Besucherinnen und Besucher mit dem Rollstuhl- und Blinden-Parcours „Find your Way“ selbst erfahren\, wie sich Barrieren auf dem Campus gestalten und anfühlen. \nDie Mobilitätswoche schließt mit einer Podiumsdiskussion mit Verkehrsminister Winfried Hermann.
URL:https://wandelstadt-esslingen.de/event/mobilitaetswoche-der-hochschule-esslingen/
LOCATION:Campus Stadtmitte / Hochschule Eslingen\, Kanalstraße 33\, Esslingen\, Deutschland
END:VEVENT
END:VCALENDAR