BEGIN:VCALENDAR
VERSION:2.0
PRODID:-//Wandelstadt Esslingen - ECPv6.15.20//NONSGML v1.0//EN
CALSCALE:GREGORIAN
METHOD:PUBLISH
X-WR-CALNAME:Wandelstadt Esslingen
X-ORIGINAL-URL:https://wandelstadt-esslingen.de
X-WR-CALDESC:Veranstaltungen für Wandelstadt Esslingen
REFRESH-INTERVAL;VALUE=DURATION:PT1H
X-Robots-Tag:noindex
X-PUBLISHED-TTL:PT1H
BEGIN:VTIMEZONE
TZID:Europe/Berlin
BEGIN:DAYLIGHT
TZOFFSETFROM:+0100
TZOFFSETTO:+0200
TZNAME:CEST
DTSTART:20240331T010000
END:DAYLIGHT
BEGIN:STANDARD
TZOFFSETFROM:+0200
TZOFFSETTO:+0100
TZNAME:CET
DTSTART:20241027T010000
END:STANDARD
BEGIN:DAYLIGHT
TZOFFSETFROM:+0100
TZOFFSETTO:+0200
TZNAME:CEST
DTSTART:20250330T010000
END:DAYLIGHT
BEGIN:STANDARD
TZOFFSETFROM:+0200
TZOFFSETTO:+0100
TZNAME:CET
DTSTART:20251026T010000
END:STANDARD
BEGIN:DAYLIGHT
TZOFFSETFROM:+0100
TZOFFSETTO:+0200
TZNAME:CEST
DTSTART:20260329T010000
END:DAYLIGHT
BEGIN:STANDARD
TZOFFSETFROM:+0200
TZOFFSETTO:+0100
TZNAME:CET
DTSTART:20261025T010000
END:STANDARD
END:VTIMEZONE
BEGIN:VEVENT
DTSTART;TZID=Europe/Berlin:20250820T093000
DTEND;TZID=Europe/Berlin:20250820T170000
DTSTAMP:20260422T124421
CREATED:20250804T083753Z
LAST-MODIFIED:20250804T083753Z
UID:5971-1755682200-1755709200@wandelstadt-esslingen.de
SUMMARY:Mit dem Rad die Heimat erkunden
DESCRIPTION:Der Stadtseniorenrat lädt auch Nichtmitglieder zu einer kostenlosen\,  rund 40 km lange Radtour (270 Höhenmeter) nach Möhringen ein. Von Berkheim geht es  durch Ruit\, vorbei an Heumaden und Sillenbuch zum höchsten Punkt in Degerloch. Von hier aus führt die Strecke leicht abfallend weiter nach Möhringen und durch Plieningen ins Körschtal bis Denkendorf. Die Tour endet nach einem Anstieg  in Köngen mit der Mittagseinkehr in der Rettichbar. Abfahrt: 9.30 Uhr an der Osterfeldhalle Berkheim. Anmeldung:m.schnaithmann@online.de\,Tel. 0711 3456245
URL:https://wandelstadt-esslingen.de/event/mit-dem-rad-die-heimat-erkunden/
LOCATION:Osterfeldhalle\, Köngener Straße 51\, Esslingen am Neckar\, 73734\, Deutschland
CATEGORIES:Ausflug
ATTACH;FMTTYPE=image/jpeg:https://wandelstadt-esslingen.de/wp-content/uploads/2025/05/Logo-SSR.jpg
END:VEVENT
END:VCALENDAR