BEGIN:VCALENDAR
VERSION:2.0
PRODID:-//Wandelstadt Esslingen - ECPv6.15.20//NONSGML v1.0//EN
CALSCALE:GREGORIAN
METHOD:PUBLISH
X-WR-CALNAME:Wandelstadt Esslingen
X-ORIGINAL-URL:https://wandelstadt-esslingen.de
X-WR-CALDESC:Veranstaltungen für Wandelstadt Esslingen
REFRESH-INTERVAL;VALUE=DURATION:PT1H
X-Robots-Tag:noindex
X-PUBLISHED-TTL:PT1H
BEGIN:VTIMEZONE
TZID:Europe/Berlin
BEGIN:DAYLIGHT
TZOFFSETFROM:+0100
TZOFFSETTO:+0200
TZNAME:CEST
DTSTART:20250330T010000
END:DAYLIGHT
BEGIN:STANDARD
TZOFFSETFROM:+0200
TZOFFSETTO:+0100
TZNAME:CET
DTSTART:20251026T010000
END:STANDARD
BEGIN:DAYLIGHT
TZOFFSETFROM:+0100
TZOFFSETTO:+0200
TZNAME:CEST
DTSTART:20260329T010000
END:DAYLIGHT
BEGIN:STANDARD
TZOFFSETFROM:+0200
TZOFFSETTO:+0100
TZNAME:CET
DTSTART:20261025T010000
END:STANDARD
BEGIN:DAYLIGHT
TZOFFSETFROM:+0100
TZOFFSETTO:+0200
TZNAME:CEST
DTSTART:20270328T010000
END:DAYLIGHT
BEGIN:STANDARD
TZOFFSETFROM:+0200
TZOFFSETTO:+0100
TZNAME:CET
DTSTART:20271031T010000
END:STANDARD
END:VTIMEZONE
BEGIN:VEVENT
DTSTART;TZID=Europe/Berlin:20260321T200000
DTEND;TZID=Europe/Berlin:20260321T220000
DTSTAMP:20260421T195746
CREATED:20260224T162753Z
LAST-MODIFIED:20260224T162753Z
UID:8309-1774123200-1774130400@wandelstadt-esslingen.de
SUMMARY:Merkt ihr nischt???
DESCRIPTION:Benefizkonzert für Mahadevi e. V. Chansons der 20 – 50er Jahre mit Jeschi Paul und Heidrun Speck. Virtuoses Klavierspiel und eine außergewöhnliche Stimme lassen das Duo zu einem Garant für einen schönen Abend werden! Da wird geliebt\, gelogen\, gelitten und gelacht\, gewütet\, geweint\, gesehnt und gestritten\, politisiert und polarisiert. Freche Frauen\, schrille Schrullen\, melancholische Mädchen\, dramatische Damen\, wütende Weiber und sexy Sirenen kommen zu Wort. Die aktuelle politische Lage wird häufig mit der Situation in der Weimarer Republik verglichen. Große Texter und Komponisten wie Hollaender\, Tucholsky\, Weill und Eisler haben ihre Zeit in Lieder und Chansons gepackt\, die heute (leider) genauso aktuell sind wie damals. Veranstaltungsort : Begegnungskirche\, Urbanstraße 45\, 73728 Esslingen am Neckar
URL:https://wandelstadt-esslingen.de/event/merkt-ihr-nischt/
LOCATION:Begegnungskirche\, Urbanstraße 45\, Esslingen\, 73728\, Deutschland
END:VEVENT
END:VCALENDAR