BEGIN:VCALENDAR
VERSION:2.0
PRODID:-//Wandelstadt Esslingen - ECPv6.15.20//NONSGML v1.0//EN
CALSCALE:GREGORIAN
METHOD:PUBLISH
X-WR-CALNAME:Wandelstadt Esslingen
X-ORIGINAL-URL:https://wandelstadt-esslingen.de
X-WR-CALDESC:Veranstaltungen für Wandelstadt Esslingen
REFRESH-INTERVAL;VALUE=DURATION:PT1H
X-Robots-Tag:noindex
X-PUBLISHED-TTL:PT1H
BEGIN:VTIMEZONE
TZID:Europe/Berlin
BEGIN:DAYLIGHT
TZOFFSETFROM:+0100
TZOFFSETTO:+0200
TZNAME:CEST
DTSTART:20250330T010000
END:DAYLIGHT
BEGIN:STANDARD
TZOFFSETFROM:+0200
TZOFFSETTO:+0100
TZNAME:CET
DTSTART:20251026T010000
END:STANDARD
BEGIN:DAYLIGHT
TZOFFSETFROM:+0100
TZOFFSETTO:+0200
TZNAME:CEST
DTSTART:20260329T010000
END:DAYLIGHT
BEGIN:STANDARD
TZOFFSETFROM:+0200
TZOFFSETTO:+0100
TZNAME:CET
DTSTART:20261025T010000
END:STANDARD
BEGIN:DAYLIGHT
TZOFFSETFROM:+0100
TZOFFSETTO:+0200
TZNAME:CEST
DTSTART:20270328T010000
END:DAYLIGHT
BEGIN:STANDARD
TZOFFSETFROM:+0200
TZOFFSETTO:+0100
TZNAME:CET
DTSTART:20271031T010000
END:STANDARD
END:VTIMEZONE
BEGIN:VEVENT
DTSTART;TZID=Europe/Berlin:20260508T100000
DTEND;TZID=Europe/Berlin:20260508T190000
DTSTAMP:20260425T005050
CREATED:20260424T171722Z
LAST-MODIFIED:20260424T171722Z
UID:10009410-1778234400-1778266800@wandelstadt-esslingen.de
SUMMARY:Meinungskubus
DESCRIPTION:Wie kann Verständigung gelingen\, wenn Meinungen unterschiedlich und von persönlichen Erfahrungen geprägt sind?\nUnd welche Faktoren können dazu führen\, dass ein Austausch schwierig wird oder scheitert? \nDie Veranstaltung lädt dazu ein\, sich mit diesen Fragen auseinanderzusetzen und unterschiedliche Perspektiven kennenzulernen.\nZiel ist es\, Raum für einen respektvollen Dialog zu schaffen und gemeinsame Wege der Verständigung zu erkunden. \nWir laden Sie herzlich ein\, mit uns ins Gespräch zu kommen.
URL:https://wandelstadt-esslingen.de/event/meinungskubus/2026-05-08/
LOCATION:Stadtbücherei Esslingen am Neckar\, Heugasse 9\, Esslingen am Neckar\, 73728
CATEGORIES:Beteiligung,Infoveranstaltung,Vernetzungsveranstaltung
ORGANIZER;CN="OMAS GEGEN RECHTS Esslingen":MAILTO:ogr-esslingen@posteo.de
END:VEVENT
END:VCALENDAR