BEGIN:VCALENDAR
VERSION:2.0
PRODID:-//Wandelstadt Esslingen - ECPv6.15.20//NONSGML v1.0//EN
CALSCALE:GREGORIAN
METHOD:PUBLISH
X-WR-CALNAME:Wandelstadt Esslingen
X-ORIGINAL-URL:https://wandelstadt-esslingen.de
X-WR-CALDESC:Veranstaltungen für Wandelstadt Esslingen
REFRESH-INTERVAL;VALUE=DURATION:PT1H
X-Robots-Tag:noindex
X-PUBLISHED-TTL:PT1H
BEGIN:VTIMEZONE
TZID:Europe/Berlin
BEGIN:DAYLIGHT
TZOFFSETFROM:+0100
TZOFFSETTO:+0200
TZNAME:CEST
DTSTART:20250330T010000
END:DAYLIGHT
BEGIN:STANDARD
TZOFFSETFROM:+0200
TZOFFSETTO:+0100
TZNAME:CET
DTSTART:20251026T010000
END:STANDARD
BEGIN:DAYLIGHT
TZOFFSETFROM:+0100
TZOFFSETTO:+0200
TZNAME:CEST
DTSTART:20260329T010000
END:DAYLIGHT
BEGIN:STANDARD
TZOFFSETFROM:+0200
TZOFFSETTO:+0100
TZNAME:CET
DTSTART:20261025T010000
END:STANDARD
BEGIN:DAYLIGHT
TZOFFSETFROM:+0100
TZOFFSETTO:+0200
TZNAME:CEST
DTSTART:20270328T010000
END:DAYLIGHT
BEGIN:STANDARD
TZOFFSETFROM:+0200
TZOFFSETTO:+0100
TZNAME:CET
DTSTART:20271031T010000
END:STANDARD
END:VTIMEZONE
BEGIN:VEVENT
DTSTART;TZID=Europe/Berlin:20260327T150000
DTEND;TZID=Europe/Berlin:20260327T180000
DTSTAMP:20260421T171300
CREATED:20260218T152621Z
LAST-MODIFIED:20260218T152621Z
UID:8184-1774623600-1774634400@wandelstadt-esslingen.de
SUMMARY:Mein Geld gut und wirkungsvoll einsetzen
DESCRIPTION:Sie haben in Ihrem Leben etwas erreicht. Reizt es Sie\, mit Ihrem Vermögen etwas von bleibendem Wert zu schaffen? Eine Stiftung ist eine gute Möglichkeit dazu. Sie wirkt nachhaltig und erfüllt dauerhaft Ihren Herzenswunsch. Stifterinnen und Stifter berichten aus erster Hand über ihren Weg zur eigenen Stiftung. Im außergewöhnlichen Ambiente der Esslinger Burg erfahren Sie außerdem mehr über verschiedene Stiftungsformate und die vielen Möglichkeiten\, wie Sie Ihre persönlichen Spuren nachhaltig hinterlassen können. \nWir freuen uns auf Sie!\nÜbrigens: Die Teilnahme an der Veranstaltung ist kostenlos.
URL:https://wandelstadt-esslingen.de/event/mein-geld-gut-und-wirkungsvoll-einsetzen/
LOCATION:Dicker Turm\, Esslinger Burg\, Esslingen\, 73728
CATEGORIES:Infoveranstaltung,Live-Veranstaltung,Vernetzungsveranstaltung
END:VEVENT
END:VCALENDAR