BEGIN:VCALENDAR
VERSION:2.0
PRODID:-//Wandelstadt Esslingen - ECPv6.15.20//NONSGML v1.0//EN
CALSCALE:GREGORIAN
METHOD:PUBLISH
X-WR-CALNAME:Wandelstadt Esslingen
X-ORIGINAL-URL:https://wandelstadt-esslingen.de
X-WR-CALDESC:Veranstaltungen für Wandelstadt Esslingen
REFRESH-INTERVAL;VALUE=DURATION:PT1H
X-Robots-Tag:noindex
X-PUBLISHED-TTL:PT1H
BEGIN:VTIMEZONE
TZID:Europe/Berlin
BEGIN:DAYLIGHT
TZOFFSETFROM:+0100
TZOFFSETTO:+0200
TZNAME:CEST
DTSTART:20240331T010000
END:DAYLIGHT
BEGIN:STANDARD
TZOFFSETFROM:+0200
TZOFFSETTO:+0100
TZNAME:CET
DTSTART:20241027T010000
END:STANDARD
BEGIN:DAYLIGHT
TZOFFSETFROM:+0100
TZOFFSETTO:+0200
TZNAME:CEST
DTSTART:20250330T010000
END:DAYLIGHT
BEGIN:STANDARD
TZOFFSETFROM:+0200
TZOFFSETTO:+0100
TZNAME:CET
DTSTART:20251026T010000
END:STANDARD
BEGIN:DAYLIGHT
TZOFFSETFROM:+0100
TZOFFSETTO:+0200
TZNAME:CEST
DTSTART:20260329T010000
END:DAYLIGHT
BEGIN:STANDARD
TZOFFSETFROM:+0200
TZOFFSETTO:+0100
TZNAME:CET
DTSTART:20261025T010000
END:STANDARD
END:VTIMEZONE
BEGIN:VEVENT
DTSTART;TZID=Europe/Berlin:20250411T204500
DTEND;TZID=Europe/Berlin:20250411T221500
DTSTAMP:20260421T230217
CREATED:20250322T151632Z
LAST-MODIFIED:20250322T151632Z
UID:4451-1744404300-1744409700@wandelstadt-esslingen.de
SUMMARY:Lesvia
DESCRIPTION:Felsige Ufer\, flirrende Sommersonne\, sanfte Wellen am Strand und dazu kaum bekleidete Lesben\, wohin das Auge reicht – Inhalte unserer süßesten Träume. Als ab den 70er Jahren jeden Sommer frauenliebende Besucher:innen nach Lesbos kommen\, ist die einheimische Filmemacherin Tzeli Hadjidimitriou mittendrin und dokumentiert\, wie eine sapphische Community im Land der Dichterin selbst entsteht. \n  \nHadjidimitriou erzählt ihre eigene Geschichte und die der Community mit all ihren Widersprüchen und zeichnet damit ein sehr persönliches Porträt einer lesbischen Generation. In umfassendem Bildmaterial und Interviews werden Kontraste sowie Annäherungen zwischen den Besucher:innen und der lokalen Bevölkerung des kleinen Küstenortes Eressos deutlich. Auf der einen Seite die zunehmende Anzahl derjenigen\, die in Lesbos einen Sehnsuchtsort finden\, um für einige Wochen ihre Bedürfnisse nach offen gelebter Sexualität und weiblicher Selbstbestimmung auszuleben. Auf der anderen Seite diejenigen\, die die kreierte Parallelgesellschaft nicht als traumhaft\, sondern als Eingriff in ihr gewohntes Leben erachten. Hadjidimitriou lässt beide Seiten zu Wort kommen und zeigt damit die Gleichzeitigkeit unterschiedlicher (Er-)Lebensrealitäten. Sie schafft vor allem aber ein unschätzbar wertvolles Vermächtnis queer-lesbischer Geschichte des Kampfes nach Räumen und des Wandels\, der möglich wird\, wenn Begegnungen entstehen. Hoch verdiente Gewinnerin des 9. Queerscope-Debütfilmpreises!\n– Kate Gößmann –
URL:https://wandelstadt-esslingen.de/event/lesvia/
LOCATION:Kommunales Kino\, Maille 4-9\, Esslingen\, 73728\, Deutschland
CATEGORIES:Kulturveranstaltung
END:VEVENT
END:VCALENDAR