BEGIN:VCALENDAR
VERSION:2.0
PRODID:-//Wandelstadt Esslingen - ECPv6.15.20//NONSGML v1.0//EN
CALSCALE:GREGORIAN
METHOD:PUBLISH
X-WR-CALNAME:Wandelstadt Esslingen
X-ORIGINAL-URL:https://wandelstadt-esslingen.de
X-WR-CALDESC:Veranstaltungen für Wandelstadt Esslingen
REFRESH-INTERVAL;VALUE=DURATION:PT1H
X-Robots-Tag:noindex
X-PUBLISHED-TTL:PT1H
BEGIN:VTIMEZONE
TZID:Europe/Berlin
BEGIN:DAYLIGHT
TZOFFSETFROM:+0100
TZOFFSETTO:+0200
TZNAME:CEST
DTSTART:20240331T010000
END:DAYLIGHT
BEGIN:STANDARD
TZOFFSETFROM:+0200
TZOFFSETTO:+0100
TZNAME:CET
DTSTART:20241027T010000
END:STANDARD
BEGIN:DAYLIGHT
TZOFFSETFROM:+0100
TZOFFSETTO:+0200
TZNAME:CEST
DTSTART:20250330T010000
END:DAYLIGHT
BEGIN:STANDARD
TZOFFSETFROM:+0200
TZOFFSETTO:+0100
TZNAME:CET
DTSTART:20251026T010000
END:STANDARD
BEGIN:DAYLIGHT
TZOFFSETFROM:+0100
TZOFFSETTO:+0200
TZNAME:CEST
DTSTART:20260329T010000
END:DAYLIGHT
BEGIN:STANDARD
TZOFFSETFROM:+0200
TZOFFSETTO:+0100
TZNAME:CET
DTSTART:20261025T010000
END:STANDARD
END:VTIMEZONE
BEGIN:VEVENT
DTSTART;TZID=Europe/Berlin:20250626T190000
DTEND;TZID=Europe/Berlin:20250626T210000
DTSTAMP:20260422T033731
CREATED:20250606T151820Z
LAST-MODIFIED:20250606T151820Z
UID:5148-1750964400-1750971600@wandelstadt-esslingen.de
SUMMARY:Lesung mit Peter Boos am 26.6.2025 um 19 Uhr im Buchladen die Zeitgenossen eG
DESCRIPTION:Peter Boos liest bei uns aus seinem neuen Buch „Max wird beim Nussenklauen erwischt“\, indem er Gerüchten um eine KZ-Außenstelle in seiner Heimatstadt Geislingen an der Steige nachgeht. Dort mussten Jüdinnen Zwangsarbeit für WMF leisten. Einmal mehr stellt sich die Frage\, wie wir mit diesem Teil unserer Vergangenheit umgehen wollen. \nDer Eintritt zu dieser Veranstaltung ist frei \n 
URL:https://wandelstadt-esslingen.de/event/lesung-mit-peter-boos-am-26-6-2025-um-19-uhr-im-buchladen-die-zeitgenossen-eg/
LOCATION:Buchladen Die Zeitgenossen\, Strohstraße 28\, Esslingen\, 73728\, Deutschland
CATEGORIES:Kulturveranstaltung
END:VEVENT
END:VCALENDAR