BEGIN:VCALENDAR
VERSION:2.0
PRODID:-//Wandelstadt Esslingen - ECPv6.15.20//NONSGML v1.0//EN
CALSCALE:GREGORIAN
METHOD:PUBLISH
X-WR-CALNAME:Wandelstadt Esslingen
X-ORIGINAL-URL:https://wandelstadt-esslingen.de
X-WR-CALDESC:Veranstaltungen für Wandelstadt Esslingen
REFRESH-INTERVAL;VALUE=DURATION:PT1H
X-Robots-Tag:noindex
X-PUBLISHED-TTL:PT1H
BEGIN:VTIMEZONE
TZID:Europe/Berlin
BEGIN:DAYLIGHT
TZOFFSETFROM:+0100
TZOFFSETTO:+0200
TZNAME:CEST
DTSTART:20240331T010000
END:DAYLIGHT
BEGIN:STANDARD
TZOFFSETFROM:+0200
TZOFFSETTO:+0100
TZNAME:CET
DTSTART:20241027T010000
END:STANDARD
BEGIN:DAYLIGHT
TZOFFSETFROM:+0100
TZOFFSETTO:+0200
TZNAME:CEST
DTSTART:20250330T010000
END:DAYLIGHT
BEGIN:STANDARD
TZOFFSETFROM:+0200
TZOFFSETTO:+0100
TZNAME:CET
DTSTART:20251026T010000
END:STANDARD
BEGIN:DAYLIGHT
TZOFFSETFROM:+0100
TZOFFSETTO:+0200
TZNAME:CEST
DTSTART:20260329T010000
END:DAYLIGHT
BEGIN:STANDARD
TZOFFSETFROM:+0200
TZOFFSETTO:+0100
TZNAME:CET
DTSTART:20261025T010000
END:STANDARD
END:VTIMEZONE
BEGIN:VEVENT
DTSTART;TZID=Europe/Berlin:20250511T110000
DTEND;TZID=Europe/Berlin:20250511T110000
DTSTAMP:20260422T004921
CREATED:20250426T232327Z
LAST-MODIFIED:20250426T232327Z
UID:4758-1746961200-1746961200@wandelstadt-esslingen.de
SUMMARY:LAUTE BÄUME AKTIONSTAG
DESCRIPTION:Führungen\, Info-Stationen und Mitmach-Angebote in der Klangausstellung Ein groß angelegter Aktionstag bietet ein umfangreiches Programm\, das Kindern und Jugendlichen auf spielerische Weise die Welt der Komponistinnen\, ihre Arbeit und Sichtweise auf das Thema „Klimakrise & Regenwald“ nahe bringt und erlebbar macht\, wie Pflanzen klingen. \nInmitten der Klangausstellung verwandelt sich der Maille-Park in eine bunte Spielwiese und lädt Kinder\, Jugendliche und ihre Familien zum Mitmachen\, Mitspielen und Mitforschen ein. In Kooperation mit dem Waldmobil der Schutzgemeinschaft Deutscher Wald und Spiel-o-Top\, den in Esslingen ansässigen Expert*innen für die Gestaltung spielerischer Angebote für alle Altersgruppen\, gibt es einiges zu entdecken und zu erfahren: Wer weiß schon\, dass es nicht nur in den feuchten Tropen Regenwälder gibt und wieviel CO₂ ein Baum speichern kann? Und wie der Wald in unseren Ohren klingt? Doch es geht nicht nur um diese Fragen rund um das Thema Wald und um das Experimentieren und Spielen mit einer Tastbox\, einer Duftorgel\, einer Geräuschbox\, einem Echophon\, einer sonifizierten Pflanze und dem gemeinsamen Gestalten auf einer Bambusbaustelle. In Kurzvorträgen mit Wissenswertem über das Leben am Amazonas und im Gespräch mit der kongolesischen Künstlerin Huguette Tolinga erfahren wir mehr über andere Welten und können eintauchen in die Perspektiven von Menschen mit anderen kulturellen Hintergründen. Eine spannende Entdeckungsreise! \nGefördert durch „tuned – Netzwerk für zeitgenössische Klassik” der Kulturstiftung des Bundes. Gefördert von der Beauftragten der Bundesregierung für Kultur und Medien. \n  \n 
URL:https://wandelstadt-esslingen.de/event/laute-baeume-aktionstag/
LOCATION:Maillepark\, Wehrneckarstraße\, Esslingen\, 73728
ORGANIZER;CN="Podium Musikstiftung Esslingen":MAILTO:post@podium-esslingen.de
END:VEVENT
END:VCALENDAR