BEGIN:VCALENDAR
VERSION:2.0
PRODID:-//Wandelstadt Esslingen - ECPv6.15.20//NONSGML v1.0//EN
CALSCALE:GREGORIAN
METHOD:PUBLISH
X-WR-CALNAME:Wandelstadt Esslingen
X-ORIGINAL-URL:https://wandelstadt-esslingen.de
X-WR-CALDESC:Veranstaltungen für Wandelstadt Esslingen
REFRESH-INTERVAL;VALUE=DURATION:PT1H
X-Robots-Tag:noindex
X-PUBLISHED-TTL:PT1H
BEGIN:VTIMEZONE
TZID:Europe/Berlin
BEGIN:DAYLIGHT
TZOFFSETFROM:+0100
TZOFFSETTO:+0200
TZNAME:CEST
DTSTART:20230326T010000
END:DAYLIGHT
BEGIN:STANDARD
TZOFFSETFROM:+0200
TZOFFSETTO:+0100
TZNAME:CET
DTSTART:20231029T010000
END:STANDARD
BEGIN:DAYLIGHT
TZOFFSETFROM:+0100
TZOFFSETTO:+0200
TZNAME:CEST
DTSTART:20240331T010000
END:DAYLIGHT
BEGIN:STANDARD
TZOFFSETFROM:+0200
TZOFFSETTO:+0100
TZNAME:CET
DTSTART:20241027T010000
END:STANDARD
BEGIN:DAYLIGHT
TZOFFSETFROM:+0100
TZOFFSETTO:+0200
TZNAME:CEST
DTSTART:20250330T010000
END:DAYLIGHT
BEGIN:STANDARD
TZOFFSETFROM:+0200
TZOFFSETTO:+0100
TZNAME:CET
DTSTART:20251026T010000
END:STANDARD
END:VTIMEZONE
BEGIN:VEVENT
DTSTART;TZID=Europe/Berlin:20240917T190000
DTEND;TZID=Europe/Berlin:20240917T190000
DTSTAMP:20260422T032557
CREATED:20240623T131811Z
LAST-MODIFIED:20240623T164536Z
UID:10003046-1726599600-1726599600@wandelstadt-esslingen.de
SUMMARY:Kultur & Co. Zeig dein Land!
DESCRIPTION:KULTUR & CO.\nZEIG DEIN LAND! \nBewohner des Hoffnungshauses in Esslingen mit Fluchthintergrund stellen ihr Land\, ihre Feste und ihre Traditionen vor. Im Gegenzug werden wichtige Punkte der Demokratie besprochen und untersucht\, ob diese auch in den vorgestellten Ländern Anwendung finden.\nDies ist ein wunderbarer Austausch über die vielfältige Welt der Kulturen und demokratischen Werte!\nSei dabei und erlebe spannende Ländervorstellungen und bereichernden Austausch. Bring deine Freunde mit – für das leibliche Wohl ist gesorgt! 🍽️ \n📅 Termine: \n– 16.07.24\n– 17.09.24\n– 29.10.24\n– 26.11.24 \n🕖 Uhrzeit: Jeweils um 19 Uhr \n📍 Ort: CVJM\, Kiesstraße 3\, 73728 Esslingen \nGefördert vom Bundesministerium im Rahmen des Bundesprogramms Demokratie leben im Landkreis Esslingen
URL:https://wandelstadt-esslingen.de/event/kultur-co-zeig-dein-land/2024-09-17/
LOCATION:CVJM-Haus Esslingen\, Kiesstraße 3-5\, Esslingen\, 73728\, Deutschland
CATEGORIES:Beteiligung,Kulturveranstaltung
END:VEVENT
END:VCALENDAR