BEGIN:VCALENDAR
VERSION:2.0
PRODID:-//Wandelstadt Esslingen - ECPv6.15.20//NONSGML v1.0//EN
CALSCALE:GREGORIAN
METHOD:PUBLISH
X-WR-CALNAME:Wandelstadt Esslingen
X-ORIGINAL-URL:https://wandelstadt-esslingen.de
X-WR-CALDESC:Veranstaltungen für Wandelstadt Esslingen
REFRESH-INTERVAL;VALUE=DURATION:PT1H
X-Robots-Tag:noindex
X-PUBLISHED-TTL:PT1H
BEGIN:VTIMEZONE
TZID:Europe/Berlin
BEGIN:DAYLIGHT
TZOFFSETFROM:+0100
TZOFFSETTO:+0200
TZNAME:CEST
DTSTART:20220327T010000
END:DAYLIGHT
BEGIN:STANDARD
TZOFFSETFROM:+0200
TZOFFSETTO:+0100
TZNAME:CET
DTSTART:20221030T010000
END:STANDARD
BEGIN:DAYLIGHT
TZOFFSETFROM:+0100
TZOFFSETTO:+0200
TZNAME:CEST
DTSTART:20230326T010000
END:DAYLIGHT
BEGIN:STANDARD
TZOFFSETFROM:+0200
TZOFFSETTO:+0100
TZNAME:CET
DTSTART:20231029T010000
END:STANDARD
BEGIN:DAYLIGHT
TZOFFSETFROM:+0100
TZOFFSETTO:+0200
TZNAME:CEST
DTSTART:20240331T010000
END:DAYLIGHT
BEGIN:STANDARD
TZOFFSETFROM:+0200
TZOFFSETTO:+0100
TZNAME:CET
DTSTART:20241027T010000
END:STANDARD
END:VTIMEZONE
BEGIN:VEVENT
DTSTART;TZID=Europe/Berlin:20230719T180000
DTEND;TZID=Europe/Berlin:20230719T180000
DTSTAMP:20260422T065516
CREATED:20230629T145534Z
LAST-MODIFIED:20230629T145758Z
UID:1939-1689789600-1689789600@wandelstadt-esslingen.de
SUMMARY:Krisensitzung - Die letzte Generation
DESCRIPTION:Vortrag der letzten Generation mit Titel „Krisensitzung“ im Komma.
URL:https://wandelstadt-esslingen.de/event/krisensitzung-die-letzte-generation/2023-07-19/
LOCATION:KOMMA\, Maille 5-9\, Esslingen\, Deutschland
ORGANIZER;CN="Letzte Generation - Region S%C3%BCd-West":MAILTO:thaddeusmoffor@gmail.com
END:VEVENT
END:VCALENDAR