BEGIN:VCALENDAR
VERSION:2.0
PRODID:-//Wandelstadt Esslingen - ECPv6.15.20//NONSGML v1.0//EN
CALSCALE:GREGORIAN
METHOD:PUBLISH
X-WR-CALNAME:Wandelstadt Esslingen
X-ORIGINAL-URL:https://wandelstadt-esslingen.de
X-WR-CALDESC:Veranstaltungen für Wandelstadt Esslingen
REFRESH-INTERVAL;VALUE=DURATION:PT1H
X-Robots-Tag:noindex
X-PUBLISHED-TTL:PT1H
BEGIN:VTIMEZONE
TZID:Europe/Berlin
BEGIN:DAYLIGHT
TZOFFSETFROM:+0100
TZOFFSETTO:+0200
TZNAME:CEST
DTSTART:20240331T010000
END:DAYLIGHT
BEGIN:STANDARD
TZOFFSETFROM:+0200
TZOFFSETTO:+0100
TZNAME:CET
DTSTART:20241027T010000
END:STANDARD
BEGIN:DAYLIGHT
TZOFFSETFROM:+0100
TZOFFSETTO:+0200
TZNAME:CEST
DTSTART:20250330T010000
END:DAYLIGHT
BEGIN:STANDARD
TZOFFSETFROM:+0200
TZOFFSETTO:+0100
TZNAME:CET
DTSTART:20251026T010000
END:STANDARD
BEGIN:DAYLIGHT
TZOFFSETFROM:+0100
TZOFFSETTO:+0200
TZNAME:CEST
DTSTART:20260329T010000
END:DAYLIGHT
BEGIN:STANDARD
TZOFFSETFROM:+0200
TZOFFSETTO:+0100
TZNAME:CET
DTSTART:20261025T010000
END:STANDARD
END:VTIMEZONE
BEGIN:VEVENT
DTSTART;TZID=Europe/Berlin:20251217T080000
DTEND;TZID=Europe/Berlin:20251217T130000
DTSTAMP:20260421T213539
CREATED:20251123T183823Z
LAST-MODIFIED:20251123T183823Z
UID:10007238-1765958400-1765976400@wandelstadt-esslingen.de
SUMMARY:Kostenfreie und unabhängige Energieberatung
DESCRIPTION:Die Klimaschutzagentur des Landkreises Esslingen bietet in Kooperation mit der Verbraucherzentrale Baden-Württemberg unabhängige Energieberatungen im Kreis an. \nUnabhängige Informationen zu den Themen energieeffiziente Gebäudemodernisierung\, Heizungsoptimierung und Heizungstausch\, Wärmepumpen im Bestand\, Solarenergie\, Nebenkostenabrechnungen sowie Stromsparen im Haushalt sind die klassischen Themen einer Energieberatung. \nTerminvereinbarung \ntelefonisch bei der Klimaschutzagentur \nunter 0711 – 20 70 30 – 70 \nMo – Do von 09:00 – 13:00 Uhr
URL:https://wandelstadt-esslingen.de/event/kostenfreie-und-unabhaengige-energieberatung-7/2025-12-17/
LOCATION:Klimaschutzagentur des Landkreises Esslingen\, Kandlerstraße 8\, Esslingen am Neckar\, 73728
CATEGORIES:Infoveranstaltung,Live-Veranstaltung,Workshop
ORGANIZER;CN="Klimaschutzagentur des Landkreises Esslingen gGmbH":MAILTO:info@ksa-es.de
END:VEVENT
END:VCALENDAR