BEGIN:VCALENDAR
VERSION:2.0
PRODID:-//Wandelstadt Esslingen - ECPv6.15.20//NONSGML v1.0//EN
CALSCALE:GREGORIAN
METHOD:PUBLISH
X-WR-CALNAME:Wandelstadt Esslingen
X-ORIGINAL-URL:https://wandelstadt-esslingen.de
X-WR-CALDESC:Veranstaltungen für Wandelstadt Esslingen
REFRESH-INTERVAL;VALUE=DURATION:PT1H
X-Robots-Tag:noindex
X-PUBLISHED-TTL:PT1H
BEGIN:VTIMEZONE
TZID:Europe/Berlin
BEGIN:DAYLIGHT
TZOFFSETFROM:+0100
TZOFFSETTO:+0200
TZNAME:CEST
DTSTART:20220327T010000
END:DAYLIGHT
BEGIN:STANDARD
TZOFFSETFROM:+0200
TZOFFSETTO:+0100
TZNAME:CET
DTSTART:20221030T010000
END:STANDARD
BEGIN:DAYLIGHT
TZOFFSETFROM:+0100
TZOFFSETTO:+0200
TZNAME:CEST
DTSTART:20230326T010000
END:DAYLIGHT
BEGIN:STANDARD
TZOFFSETFROM:+0200
TZOFFSETTO:+0100
TZNAME:CET
DTSTART:20231029T010000
END:STANDARD
BEGIN:DAYLIGHT
TZOFFSETFROM:+0100
TZOFFSETTO:+0200
TZNAME:CEST
DTSTART:20240331T010000
END:DAYLIGHT
BEGIN:STANDARD
TZOFFSETFROM:+0200
TZOFFSETTO:+0100
TZNAME:CET
DTSTART:20241027T010000
END:STANDARD
END:VTIMEZONE
BEGIN:VEVENT
DTSTART;TZID=Europe/Berlin:20231207T193000
DTEND;TZID=Europe/Berlin:20231207T210000
DTSTAMP:20260422T034052
CREATED:20231101T134308Z
LAST-MODIFIED:20231101T134308Z
UID:2311-1701977400-1701982800@wandelstadt-esslingen.de
SUMMARY:Konzert 1000 Jahre Galut – Das jüdische Europa in Liedern und Zeitzeugnissen
DESCRIPTION:Dieses besondere Konzert thematisiert die ambivalentenBeziehungen der Juden zu ihren nichtjüdischen Nachbarnin Europa. Die Geschichte des europäischen Judentumskennt das friedliche interreligiöse Zusammenlebens ebensowie die gnadenlose Verfolgung und den Versuch\, dasjüdische Leben in Europa in seiner Gesamtheitauszulöschen. Da sind auf der einen Seite die vielenJahrhunderte der kulturellen Blüte in Spanien und imMittelmeerraum\, die eine fast unerschöpfliche Quelle vonlebensfrohen Liedern und Texten bilden. Und da ist auf deranderen Seite die Erfahrung von Rassismus\, Unterdrückungund fanatischem Menschenhass bis hin zum Völkermord.Auch dieser Teil der jüdisch-europäischen Geschichte hatSpuren in der Musik hinterlassen\, die heute als klingendesMahnmal dienen können. Wir wollen mit unseremProgramm für eine tolerante\, kulturell und religiös bunteund friedliche Welt werben. \nVeranstalter: Trimum e.V.
URL:https://wandelstadt-esslingen.de/event/konzert-1000-jahre-galut-das-juedische-europa-in-liedern-und-zeitzeugnissen/
LOCATION:Kunstdruck Centraltheater\, Rossmarkt 9\, Esslingen
END:VEVENT
END:VCALENDAR