BEGIN:VCALENDAR
VERSION:2.0
PRODID:-//Wandelstadt Esslingen - ECPv6.15.20//NONSGML v1.0//EN
CALSCALE:GREGORIAN
METHOD:PUBLISH
X-WR-CALNAME:Wandelstadt Esslingen
X-ORIGINAL-URL:https://wandelstadt-esslingen.de
X-WR-CALDESC:Veranstaltungen für Wandelstadt Esslingen
REFRESH-INTERVAL;VALUE=DURATION:PT1H
X-Robots-Tag:noindex
X-PUBLISHED-TTL:PT1H
BEGIN:VTIMEZONE
TZID:Europe/Berlin
BEGIN:DAYLIGHT
TZOFFSETFROM:+0100
TZOFFSETTO:+0200
TZNAME:CEST
DTSTART:20240331T010000
END:DAYLIGHT
BEGIN:STANDARD
TZOFFSETFROM:+0200
TZOFFSETTO:+0100
TZNAME:CET
DTSTART:20241027T010000
END:STANDARD
BEGIN:DAYLIGHT
TZOFFSETFROM:+0100
TZOFFSETTO:+0200
TZNAME:CEST
DTSTART:20250330T010000
END:DAYLIGHT
BEGIN:STANDARD
TZOFFSETFROM:+0200
TZOFFSETTO:+0100
TZNAME:CET
DTSTART:20251026T010000
END:STANDARD
BEGIN:DAYLIGHT
TZOFFSETFROM:+0100
TZOFFSETTO:+0200
TZNAME:CEST
DTSTART:20260329T010000
END:DAYLIGHT
BEGIN:STANDARD
TZOFFSETFROM:+0200
TZOFFSETTO:+0100
TZNAME:CET
DTSTART:20261025T010000
END:STANDARD
END:VTIMEZONE
BEGIN:VEVENT
DTSTART;TZID=Europe/Berlin:20250611T170000
DTEND;TZID=Europe/Berlin:20250611T183000
DTSTAMP:20260422T023809
CREATED:20250526T155500Z
LAST-MODIFIED:20250526T155500Z
UID:5010-1749661200-1749666600@wandelstadt-esslingen.de
SUMMARY:Komm.Mit – Kultur gemeinsam statt einsam
DESCRIPTION:Sie möchten neue Menschen in Esslingen kennenlernen? Sie möchten gemeinsam mit anderen Kulturveranstaltungen besuchen? Bei Komm.Mit! – Kultur gemeinsam statt einsam lernen sich ganz unterschiedliche Menschen kennen. Gemeinsam besuchen sie Kulturveranstaltungen wie Theater\, Kino oder Kunstausstellungen. Die Teilnahme ist kostenlos und jederzeit möglich.   Anmelden können Sie sich barrierefrei unter www.esslingen.de/komm-mit Teilnehmende von „Komm.Mit!“ bekommen einmalig kostenfreien Eintritt in ausgewählten Kultureinrichtungen.\nPreis\nTeilnehmende von „Komm.Mit!“ bekommen einmalig kostenfreien Eintritt in ausgewählten Kultureinrichtungen.
URL:https://wandelstadt-esslingen.de/event/komm-mit-kultur-gemeinsam-statt-einsam/
LOCATION:Modehaus Kögel
END:VEVENT
END:VCALENDAR