BEGIN:VCALENDAR
VERSION:2.0
PRODID:-//Wandelstadt Esslingen - ECPv6.15.20//NONSGML v1.0//EN
CALSCALE:GREGORIAN
METHOD:PUBLISH
X-WR-CALNAME:Wandelstadt Esslingen
X-ORIGINAL-URL:https://wandelstadt-esslingen.de
X-WR-CALDESC:Veranstaltungen für Wandelstadt Esslingen
REFRESH-INTERVAL;VALUE=DURATION:PT1H
X-Robots-Tag:noindex
X-PUBLISHED-TTL:PT1H
BEGIN:VTIMEZONE
TZID:Europe/Berlin
BEGIN:DAYLIGHT
TZOFFSETFROM:+0100
TZOFFSETTO:+0200
TZNAME:CEST
DTSTART:20220327T010000
END:DAYLIGHT
BEGIN:STANDARD
TZOFFSETFROM:+0200
TZOFFSETTO:+0100
TZNAME:CET
DTSTART:20221030T010000
END:STANDARD
BEGIN:DAYLIGHT
TZOFFSETFROM:+0100
TZOFFSETTO:+0200
TZNAME:CEST
DTSTART:20230326T010000
END:DAYLIGHT
BEGIN:STANDARD
TZOFFSETFROM:+0200
TZOFFSETTO:+0100
TZNAME:CET
DTSTART:20231029T010000
END:STANDARD
BEGIN:DAYLIGHT
TZOFFSETFROM:+0100
TZOFFSETTO:+0200
TZNAME:CEST
DTSTART:20240331T010000
END:DAYLIGHT
BEGIN:STANDARD
TZOFFSETFROM:+0200
TZOFFSETTO:+0100
TZNAME:CET
DTSTART:20241027T010000
END:STANDARD
END:VTIMEZONE
BEGIN:VEVENT
DTSTART;TZID=Europe/Berlin:20230516T193000
DTEND;TZID=Europe/Berlin:20230516T193000
DTSTAMP:20260424T232419
CREATED:20230223T112217Z
LAST-MODIFIED:20230223T112217Z
UID:1408-1684265400-1684265400@wandelstadt-esslingen.de
SUMMARY:Klimagerechtigkeit braucht Frieden
DESCRIPTION:Frieden und Klimagerechtigkeit bedingen sich gegenseitig: Das Militär ist der größte institutionelle Verursacher von Treibhausgasemissionen – die konstante Kriegseinübung\, die weltweite Militärlogistik\, die Rüstungsindustrie sowie die laufenden Kriege verschlingen Unmengen an fossilen Energieträgern und schaden der Umwelt langfristig. Gleichzeitig investieren die Staaten global etwa dreißigmal mehr in ihre Militärapparate\, als in dringend gebrauchte Klimaschutzmaßnahmen. Der Vortrag zeigt auch auf\, wie Militärapparate die Klimakrise verschärfen und wie Streitkräfte den Zugang zu Erdöl und – gas absichern und ihre Transportwege schützen. Um Frieden zu haben\, brauchen wir Klimagerechtigkeit und Klimagerechtigkeit braucht Frieden. \nJaqueline Andres\, im erweiterten Vorstand von IMI (Informationsstelle Militarisierung)\, Tübingen \nDienstag\, 16. Mai 2023\, 19.30 Uhr Esslingen\, Kulturzentrum Dieselstraße (Dieselstr. 26) \nEintritt frei – Spende erwünscht an: keb Kath. \nErwachsenenbildung im Landkreis Esslingen \nIBAN DE 36 6115 0020 0000 5982 68 \nVeranstalter: Arbeitskreis Ökonomie Esslingen (keb – Kath. Erwachsenenbildung zusammen mit Evangelisches Bildungswerk\, EBI\, Caritas Fils-Neckar-Alb\, DGB\, Heimstatt Esslingen\, Kreisdiakonieverband Esslingen\, Kulturzentrum Dieselstrasse\, attac Esslingen\, Volkshochschule Esslingen)
URL:https://wandelstadt-esslingen.de/event/klimagerechtigkeit-braucht-frieden/
LOCATION:Kulturzentrum Dieselstraße\, Dieselstraße 26\, Esslingen\, Deutschland
END:VEVENT
END:VCALENDAR