BEGIN:VCALENDAR
VERSION:2.0
PRODID:-//Wandelstadt Esslingen - ECPv6.15.20//NONSGML v1.0//EN
CALSCALE:GREGORIAN
METHOD:PUBLISH
X-WR-CALNAME:Wandelstadt Esslingen
X-ORIGINAL-URL:https://wandelstadt-esslingen.de
X-WR-CALDESC:Veranstaltungen für Wandelstadt Esslingen
REFRESH-INTERVAL;VALUE=DURATION:PT1H
X-Robots-Tag:noindex
X-PUBLISHED-TTL:PT1H
BEGIN:VTIMEZONE
TZID:Europe/Berlin
BEGIN:DAYLIGHT
TZOFFSETFROM:+0100
TZOFFSETTO:+0200
TZNAME:CEST
DTSTART:20250330T010000
END:DAYLIGHT
BEGIN:STANDARD
TZOFFSETFROM:+0200
TZOFFSETTO:+0100
TZNAME:CET
DTSTART:20251026T010000
END:STANDARD
BEGIN:DAYLIGHT
TZOFFSETFROM:+0100
TZOFFSETTO:+0200
TZNAME:CEST
DTSTART:20260329T010000
END:DAYLIGHT
BEGIN:STANDARD
TZOFFSETFROM:+0200
TZOFFSETTO:+0100
TZNAME:CET
DTSTART:20261025T010000
END:STANDARD
BEGIN:DAYLIGHT
TZOFFSETFROM:+0100
TZOFFSETTO:+0200
TZNAME:CEST
DTSTART:20270328T010000
END:DAYLIGHT
BEGIN:STANDARD
TZOFFSETFROM:+0200
TZOFFSETTO:+0100
TZNAME:CET
DTSTART:20271031T010000
END:STANDARD
END:VTIMEZONE
BEGIN:VEVENT
DTSTART;TZID=Europe/Berlin:20260321T120000
DTEND;TZID=Europe/Berlin:20260321T153000
DTSTAMP:20260421T194645
CREATED:20260218T104313Z
LAST-MODIFIED:20260218T104313Z
UID:8163-1774094400-1774107000@wandelstadt-esslingen.de
SUMMARY:Kleidertauschtag
DESCRIPTION:Für Erwachsene \nSeien Sie dabei\, wenn die Stadtbücherei Esslingen anlässlich des Welt-Recycling-Tags ihre erste Kleidertauschparty veranstaltet. Diese bietet die Möglichkeit bis zu sieben Kleidungsstücke mitzubringen\, während Sie beliebig viele Teile mitnehmen dürfen. \nUm allen Teilnehmenden ein positives Tauscherlebnis zu ermöglichen\, sollte die Kleidung gewaschen und frei von unangenehmen Gerüchen\, Flecken oder Schäden wie Löchern\, Rissen\, fehlenden Knöpfen oder defekten Reißverschlüssen sein. Eine erneute Tragbarkeit ohne Beeinträchtigung der Funktion sollte zumutbar sein. Badebekleidung\, Unterwäsche\, Socken und Kleidung für Kinder sind nicht zugelassen. \nBereiten Sie nicht nur sich selbst und anderen große Freude\, sondern leisten Sie dabei auch einen nachhaltigen Beitrag. Wir freuen uns auf Sie! \n\n\n\nPreis:\nEintritt frei\n\n\nHinweis:\nohne Anmeldung
URL:https://wandelstadt-esslingen.de/event/kleidertauschtag/
LOCATION:Stadtbücherei Esslingen am Neckar\, Heugasse 9\, Esslingen am Neckar\, 73728
CATEGORIES:Verkaufsveranstaltung
END:VEVENT
END:VCALENDAR