BEGIN:VCALENDAR
VERSION:2.0
PRODID:-//Wandelstadt Esslingen - ECPv6.15.20//NONSGML v1.0//EN
CALSCALE:GREGORIAN
METHOD:PUBLISH
X-WR-CALNAME:Wandelstadt Esslingen
X-ORIGINAL-URL:https://wandelstadt-esslingen.de
X-WR-CALDESC:Veranstaltungen für Wandelstadt Esslingen
REFRESH-INTERVAL;VALUE=DURATION:PT1H
X-Robots-Tag:noindex
X-PUBLISHED-TTL:PT1H
BEGIN:VTIMEZONE
TZID:Europe/Berlin
BEGIN:DAYLIGHT
TZOFFSETFROM:+0100
TZOFFSETTO:+0200
TZNAME:CEST
DTSTART:20240331T010000
END:DAYLIGHT
BEGIN:STANDARD
TZOFFSETFROM:+0200
TZOFFSETTO:+0100
TZNAME:CET
DTSTART:20241027T010000
END:STANDARD
BEGIN:DAYLIGHT
TZOFFSETFROM:+0100
TZOFFSETTO:+0200
TZNAME:CEST
DTSTART:20250330T010000
END:DAYLIGHT
BEGIN:STANDARD
TZOFFSETFROM:+0200
TZOFFSETTO:+0100
TZNAME:CET
DTSTART:20251026T010000
END:STANDARD
BEGIN:DAYLIGHT
TZOFFSETFROM:+0100
TZOFFSETTO:+0200
TZNAME:CEST
DTSTART:20260329T010000
END:DAYLIGHT
BEGIN:STANDARD
TZOFFSETFROM:+0200
TZOFFSETTO:+0100
TZNAME:CET
DTSTART:20261025T010000
END:STANDARD
END:VTIMEZONE
BEGIN:VEVENT
DTSTART;TZID=Europe/Berlin:20250623T200000
DTEND;TZID=Europe/Berlin:20250623T200000
DTSTAMP:20260421T221748
CREATED:20250526T112932Z
LAST-MODIFIED:20250526T112937Z
UID:4966-1750708800-1750708800@wandelstadt-esslingen.de
SUMMARY:Kino:  Sieben Tage
DESCRIPTION:Mo | 23.06.2025 | 20.00 Uhr\n120 Minuten | FSK 12  | deutsche Originalfassung \nAli Samadi Ahadis emotionaler und brisanter Film – Fluchtthriller\, hochspannendes Roadmovie und Familiendrama – erzählt eine fiktive Geschichte\, ist aber inspiriert vom Leben und Wirken der Nobelpreisträgerin Narges Mohammadi. \nMaryam ist eine inhaftierte Menschenrechtsaktivistin. Nach einem Herzinfarkt wird ihr ein siebentägiger Freigang gewährt. Doch ihr in Hamburg lebender Mann Behnam und ihr Bruder in Teheran haben andere Pläne. Sie haben Maryams Flucht nach Deutschland vorbereitet. Behnam und ihre beiden Kinder reisen Maryam in die türkische Grenzstadt Van entgegen. Dorthin soll sie kommen und – so erhoffen es sich die drei – dann gemeinsam mit ihnen nach Deutschland fahren. Maryam ist zerrissen zwischen ihrer Sehnsucht nach ihrer Familie und dem Bedürfnis\, ihren Kampf aus dem Gefängnis im Iran weiterzuführen.
URL:https://wandelstadt-esslingen.de/event/kino-sieben-tage-6/
LOCATION:Kommunales Kino\, Maille 4-9\, Esslingen\, 73728\, Deutschland
END:VEVENT
END:VCALENDAR