BEGIN:VCALENDAR
VERSION:2.0
PRODID:-//Wandelstadt Esslingen - ECPv6.15.20//NONSGML v1.0//EN
CALSCALE:GREGORIAN
METHOD:PUBLISH
X-WR-CALNAME:Wandelstadt Esslingen
X-ORIGINAL-URL:https://wandelstadt-esslingen.de
X-WR-CALDESC:Veranstaltungen für Wandelstadt Esslingen
REFRESH-INTERVAL;VALUE=DURATION:PT1H
X-Robots-Tag:noindex
X-PUBLISHED-TTL:PT1H
BEGIN:VTIMEZONE
TZID:Europe/Berlin
BEGIN:DAYLIGHT
TZOFFSETFROM:+0100
TZOFFSETTO:+0200
TZNAME:CEST
DTSTART:20240331T010000
END:DAYLIGHT
BEGIN:STANDARD
TZOFFSETFROM:+0200
TZOFFSETTO:+0100
TZNAME:CET
DTSTART:20241027T010000
END:STANDARD
BEGIN:DAYLIGHT
TZOFFSETFROM:+0100
TZOFFSETTO:+0200
TZNAME:CEST
DTSTART:20250330T010000
END:DAYLIGHT
BEGIN:STANDARD
TZOFFSETFROM:+0200
TZOFFSETTO:+0100
TZNAME:CET
DTSTART:20251026T010000
END:STANDARD
BEGIN:DAYLIGHT
TZOFFSETFROM:+0100
TZOFFSETTO:+0200
TZNAME:CEST
DTSTART:20260329T010000
END:DAYLIGHT
BEGIN:STANDARD
TZOFFSETFROM:+0200
TZOFFSETTO:+0100
TZNAME:CET
DTSTART:20261025T010000
END:STANDARD
END:VTIMEZONE
BEGIN:VEVENT
DTSTART;TZID=Europe/Berlin:20250330T110000
DTEND;TZID=Europe/Berlin:20250330T130000
DTSTAMP:20260421T214811
CREATED:20250223T072041Z
LAST-MODIFIED:20250223T072041Z
UID:4317-1743332400-1743339600@wandelstadt-esslingen.de
SUMMARY:Kinder\, Küche und KI – Frauen zwischen Zeitnot\, Armut und Aufbruch
DESCRIPTION:Diskussionsveranstaltung \nDie Arbeitswelt verändert sich durch die Digitalisierung rasant. Wir Frauen stehen dabei vor großen Herausforderungen\, aber wir haben auch Chancen. Gegenwärtig geht es darum\, massive strukturelle Ungleichheiten zu bekämpfen. Wie in einem Brennglas zeigt sich: Gleicher Lohn für gleichwertige Arbeit ist noch längst nicht etabliert. Die mangelnde Wertschätzung sozialer Berufe\, prekäre Arbeit und Altersarmut nehmen zu. Die vielbeschworene Vereinbarkeit von Beruf und Familie ist in der Praxis selten möglich. \nWarum das so ist und welche Aufbrüche möglich sind\, erörtern mit Ihnen Leni Breymaier\, SPD-Bundestagsabgeordnete (Wahlkreis Aalen-Heidenheim) und SPD-Bundestagskandidatin Argyri Paraschaki-Schauer (Wahlkreis Esslingen). \nDiskutieren Sie mit uns\, welche Weichen für eine erfolgreiche Zukunft von uns Frauen zu stellen sind. Zu Kaffee und Hefezopf sind Sie herzlich eingeladen. \n\n\n\n\n\n\nPreis \nkostenlos\n\n\n\nHinweis \nOhne Anmeldung\, mx. 70 Teilnehmende\n\n\n\nPräsentiert von SPD Frauen
URL:https://wandelstadt-esslingen.de/event/kinder-kueche-und-ki-frauen-zwischen-zeitnot-armut-und-aufbruch/
LOCATION:Mehrgenerationen- und Bürgerhaus Pliensauvorstadt\, Weilstr. 8\, Esslingen am Neckar\, Baden Württemberg\, 73734\, Deutschland
END:VEVENT
END:VCALENDAR