BEGIN:VCALENDAR
VERSION:2.0
PRODID:-//Wandelstadt Esslingen - ECPv6.15.20//NONSGML v1.0//EN
CALSCALE:GREGORIAN
METHOD:PUBLISH
X-WR-CALNAME:Wandelstadt Esslingen
X-ORIGINAL-URL:https://wandelstadt-esslingen.de
X-WR-CALDESC:Veranstaltungen für Wandelstadt Esslingen
REFRESH-INTERVAL;VALUE=DURATION:PT1H
X-Robots-Tag:noindex
X-PUBLISHED-TTL:PT1H
BEGIN:VTIMEZONE
TZID:Europe/Berlin
BEGIN:DAYLIGHT
TZOFFSETFROM:+0100
TZOFFSETTO:+0200
TZNAME:CEST
DTSTART:20220327T010000
END:DAYLIGHT
BEGIN:STANDARD
TZOFFSETFROM:+0200
TZOFFSETTO:+0100
TZNAME:CET
DTSTART:20221030T010000
END:STANDARD
BEGIN:DAYLIGHT
TZOFFSETFROM:+0100
TZOFFSETTO:+0200
TZNAME:CEST
DTSTART:20230326T010000
END:DAYLIGHT
BEGIN:STANDARD
TZOFFSETFROM:+0200
TZOFFSETTO:+0100
TZNAME:CET
DTSTART:20231029T010000
END:STANDARD
BEGIN:DAYLIGHT
TZOFFSETFROM:+0100
TZOFFSETTO:+0200
TZNAME:CEST
DTSTART:20240331T010000
END:DAYLIGHT
BEGIN:STANDARD
TZOFFSETFROM:+0200
TZOFFSETTO:+0100
TZNAME:CET
DTSTART:20241027T010000
END:STANDARD
END:VTIMEZONE
BEGIN:VEVENT
DTSTART;TZID=Europe/Berlin:20230507T150000
DTEND;TZID=Europe/Berlin:20230507T150000
DTSTAMP:20260422T031911
CREATED:20230424T100702Z
LAST-MODIFIED:20230424T100702Z
UID:1672-1683471600-1683471600@wandelstadt-esslingen.de
SUMMARY:Kidical Mass
DESCRIPTION:Am 7.5. ist das nächste Kidical Mass-Wochenende und es gibt vage Planungen\, in Kirchheim und Esslingen mit den „Kids“ die Strasse zu erobern. \nAngedachte Treffpunkte sind: \nEsslingen\, Marktplatz\, 15 Uhr \nIn beiden Fällen werden noch Menschen gesucht\, die mitmachen\, die v.a. Werbung machen. Wer mitmachen möchte\, meldet sich am besten bei martin.schmid@adfc-bw.de (Kirchheim) und thomas.albrecht@adfc-bw.de (Esslingen).
URL:https://wandelstadt-esslingen.de/event/kidical-mass/
ORGANIZER;CN="Allgemeiner Deutscher Fahrrad-Club e. V. (ADFC)":MAILTO:thomas.albrecht@adfc-bw.de
END:VEVENT
END:VCALENDAR