BEGIN:VCALENDAR
VERSION:2.0
PRODID:-//Wandelstadt Esslingen - ECPv6.15.20//NONSGML v1.0//EN
CALSCALE:GREGORIAN
METHOD:PUBLISH
X-WR-CALNAME:Wandelstadt Esslingen
X-ORIGINAL-URL:https://wandelstadt-esslingen.de
X-WR-CALDESC:Veranstaltungen für Wandelstadt Esslingen
REFRESH-INTERVAL;VALUE=DURATION:PT1H
X-Robots-Tag:noindex
X-PUBLISHED-TTL:PT1H
BEGIN:VTIMEZONE
TZID:Europe/Berlin
BEGIN:DAYLIGHT
TZOFFSETFROM:+0100
TZOFFSETTO:+0200
TZNAME:CEST
DTSTART:20230326T010000
END:DAYLIGHT
BEGIN:STANDARD
TZOFFSETFROM:+0200
TZOFFSETTO:+0100
TZNAME:CET
DTSTART:20231029T010000
END:STANDARD
BEGIN:DAYLIGHT
TZOFFSETFROM:+0100
TZOFFSETTO:+0200
TZNAME:CEST
DTSTART:20240331T010000
END:DAYLIGHT
BEGIN:STANDARD
TZOFFSETFROM:+0200
TZOFFSETTO:+0100
TZNAME:CET
DTSTART:20241027T010000
END:STANDARD
BEGIN:DAYLIGHT
TZOFFSETFROM:+0100
TZOFFSETTO:+0200
TZNAME:CEST
DTSTART:20250330T010000
END:DAYLIGHT
BEGIN:STANDARD
TZOFFSETFROM:+0200
TZOFFSETTO:+0100
TZNAME:CET
DTSTART:20251026T010000
END:STANDARD
END:VTIMEZONE
BEGIN:VEVENT
DTSTART;TZID=Europe/Berlin:20240505T150000
DTEND;TZID=Europe/Berlin:20240505T163000
DTSTAMP:20260421T200948
CREATED:20240109T200713Z
LAST-MODIFIED:20240109T202501Z
UID:2431-1714921200-1714926600@wandelstadt-esslingen.de
SUMMARY:Kidical Mass Esslingen
DESCRIPTION:Start ist am Sonntag den 5.5. um 15 Uhr auf dem Esslinger Marktplatz.\nDie Wetterfrösche schwärmen vom Frühling und wir drücken die Daumen. \nUns gehört die Straße!\nWir setzen ein Zeichen für kinderfreundliche und lebenswertere Städte. Die bunten Fahrraddemos der Kidical Mass erobern an diesem Wochenende die Straßen in über 200 Orten in ganz Deutschland und darüber hinaus. \nDie Route ist ohne nennenswerte Steigungen\, die ca. 6 km lange Route fahren wir in sehr moderatem Tempo\, sodass auch die Kleinsten mitfahren können.\nWir enden an einem kinderfreundlichen Ort. (wird noch bekanntgegeben) \nWir brauchen \n\nEin kinderfreundliches Straßenverkehrsrecht mit Fokus auf selbständige und sichere Mobilität von Kindern. Dazu gehört an erster Stelle Tempo 30 als Regelgeschwindigkeit innerorts.\nDeutliche Investitionen in ein sicheres\, komfortables Schulradwege-Netz bis 2030\nEin Bundesmobilitätsgesetz als Rahmen für die Vision Zero und weitere gesellschaftliche Ziele wie Klima- und Umweltschutz.\n\nAuch in Esslingen gibt es viel zu tun.\nZu Fuss und mit dem Fahrrad sind Kinder selbstbestimmt und nachhaltig unterwegs.\nWir brauchen sichere Fahrradverbindungen\, damit sie schon im Kinderalter lernen\, sich in der Stadt zu bewegen: zur Schule\, zum Sport\, zum Instrumentalunterricht und zum Treffen mit Freundinnen und Freunden.\nDas gibt ihnen Sicherheit und Selbstbewusstsein und entlastet die Eltern von Fahrdiensten und Sorge.
URL:https://wandelstadt-esslingen.de/event/kidical-mass-esslingen-2/
LOCATION:Marktplatz\, Esslingen\, Marktplatz\, Esslingen\, 73728\, Deutschland
ATTACH;FMTTYPE=image/jpeg:https://wandelstadt-esslingen.de/wp-content/uploads/2024/01/20220710_153333-scaled.jpg
END:VEVENT
END:VCALENDAR