BEGIN:VCALENDAR
VERSION:2.0
PRODID:-//Wandelstadt Esslingen - ECPv6.15.20//NONSGML v1.0//EN
CALSCALE:GREGORIAN
METHOD:PUBLISH
X-WR-CALNAME:Wandelstadt Esslingen
X-ORIGINAL-URL:https://wandelstadt-esslingen.de
X-WR-CALDESC:Veranstaltungen für Wandelstadt Esslingen
REFRESH-INTERVAL;VALUE=DURATION:PT1H
X-Robots-Tag:noindex
X-PUBLISHED-TTL:PT1H
BEGIN:VTIMEZONE
TZID:Europe/Berlin
BEGIN:DAYLIGHT
TZOFFSETFROM:+0100
TZOFFSETTO:+0200
TZNAME:CEST
DTSTART:20230326T010000
END:DAYLIGHT
BEGIN:STANDARD
TZOFFSETFROM:+0200
TZOFFSETTO:+0100
TZNAME:CET
DTSTART:20231029T010000
END:STANDARD
BEGIN:DAYLIGHT
TZOFFSETFROM:+0100
TZOFFSETTO:+0200
TZNAME:CEST
DTSTART:20240331T010000
END:DAYLIGHT
BEGIN:STANDARD
TZOFFSETFROM:+0200
TZOFFSETTO:+0100
TZNAME:CET
DTSTART:20241027T010000
END:STANDARD
BEGIN:DAYLIGHT
TZOFFSETFROM:+0100
TZOFFSETTO:+0200
TZNAME:CEST
DTSTART:20250330T010000
END:DAYLIGHT
BEGIN:STANDARD
TZOFFSETFROM:+0200
TZOFFSETTO:+0100
TZNAME:CET
DTSTART:20251026T010000
END:STANDARD
END:VTIMEZONE
BEGIN:VEVENT
DTSTART;TZID=Europe/Berlin:20241118T180000
DTEND;TZID=Europe/Berlin:20241118T210000
DTSTAMP:20260421T222537
CREATED:20241023T194753Z
LAST-MODIFIED:20241023T203451Z
UID:3770-1731952800-1731963600@wandelstadt-esslingen.de
SUMMARY:Keine Demokratie ohne Pressefreiheit! Zur Lage der Pressefreiheit weltweit
DESCRIPTION:Online und vor Ort Hochschule Esslingen\, Campus Stadtmitte\, Kanalstr. 33\, Gebäude 1\, Senatssaal\, Raum S 01.021\nDie Basis der Demokratie sind die Menschenrechte! Warum ist Pressefreiheit weltweit so ein spitzfindiger Gradmesser für die Menschenrechte? Und was sagt die Situation von Reporter:innen in Deutschland über die großen Herausforderungen unserer Zeit aus? Mit diesen Fragen und möglichen Lösungen beschäftigt sich Katharina Viktoria Weiß von „Reporter ohne Grenzen (RSF)“. RSF unterstützt Journalist:innen weltweit\, alarmiert die Öffentlichkeit\, wenn Medienschaffende in Gefahr sind. Denn wenn keine freie Berichterstattung mehr stattfindet\, ist die gesamte Gesellschaft betroffen: Es bedeutet\, dass wichtige Informationen über Machtmissbrauch\, Korruption oder Minderheiten nicht ans Licht der Öffentlichkeit gelangen. Eine pluralistische Gesellschaft braucht aber diese Informationen\, um reflektiert zu handeln und Einfluss auf politische Entscheidungen nehmen zu können. \n\n\n\nReferentin: Katharina Viktoria Weiß \nInnerhalb der internationalen NGO „Reporter ohne Grenzen“ (RSF) überwacht die Journalistin und Pressereferentin Katharina Viktoria Weiß die Übergriffe auf Medienschaffende in Deutschland. Zudem betreut sie für die deutsche Sektion von RSF weite Teile des europäischen Kontinents und überwacht die Situation der Pressefreiheit in der Türkei. Die ausgebildete Redakteurin mit Masterabschluss in Kulturanthropologie arbeitete in der Vergangenheit unter anderem für den Stern\, den Schwarzkopf & Schwarzkopf Verlag oder das RBB Fernsehen und ist aktuell als freie Autorin für Tagesspiegel\, t-online und den RND tätig. \n\nAnmeldung unter: https://www.hs-esslingen.de/studium/studienangebot/studium-generale/oeffentliche-vortragsreihe/anmeldung-studium-generale
URL:https://wandelstadt-esslingen.de/event/keine-demokratie-ohne-pressefreiheit-zur-lage-der-pressefreiheit-weltweit/
LOCATION:Campus Stadtmitte / Hochschule Eslingen\, Kanalstraße 33\, Esslingen\, Deutschland
CATEGORIES:Infoveranstaltung
END:VEVENT
END:VCALENDAR