BEGIN:VCALENDAR
VERSION:2.0
PRODID:-//Wandelstadt Esslingen - ECPv6.15.20//NONSGML v1.0//EN
CALSCALE:GREGORIAN
METHOD:PUBLISH
X-WR-CALNAME:Wandelstadt Esslingen
X-ORIGINAL-URL:https://wandelstadt-esslingen.de
X-WR-CALDESC:Veranstaltungen für Wandelstadt Esslingen
REFRESH-INTERVAL;VALUE=DURATION:PT1H
X-Robots-Tag:noindex
X-PUBLISHED-TTL:PT1H
BEGIN:VTIMEZONE
TZID:Europe/Berlin
BEGIN:DAYLIGHT
TZOFFSETFROM:+0100
TZOFFSETTO:+0200
TZNAME:CEST
DTSTART:20220327T010000
END:DAYLIGHT
BEGIN:STANDARD
TZOFFSETFROM:+0200
TZOFFSETTO:+0100
TZNAME:CET
DTSTART:20221030T010000
END:STANDARD
BEGIN:DAYLIGHT
TZOFFSETFROM:+0100
TZOFFSETTO:+0200
TZNAME:CEST
DTSTART:20230326T010000
END:DAYLIGHT
BEGIN:STANDARD
TZOFFSETFROM:+0200
TZOFFSETTO:+0100
TZNAME:CET
DTSTART:20231029T010000
END:STANDARD
BEGIN:DAYLIGHT
TZOFFSETFROM:+0100
TZOFFSETTO:+0200
TZNAME:CEST
DTSTART:20240331T010000
END:DAYLIGHT
BEGIN:STANDARD
TZOFFSETFROM:+0200
TZOFFSETTO:+0100
TZNAME:CET
DTSTART:20241027T010000
END:STANDARD
END:VTIMEZONE
BEGIN:VEVENT
DTSTART;VALUE=DATE:20231028
DTEND;VALUE=DATE:20231030
DTSTAMP:20260421T230910
CREATED:20230625T105150Z
LAST-MODIFIED:20230920T191411Z
UID:1903-1698451200-1698623999@wandelstadt-esslingen.de
SUMMARY:Jubiläum 10 Jahre Transition Town Esslingen
DESCRIPTION:10 Jahre und weiter gehts!\n \nEs ist soweit: In diesem Jahr wird Transition Town Esslingen stolze 10 Jahre jung! Seitdem ist einiges geschehen: Gruppen haben sich etabliert\, aus Ideen wurden Taten\, es sind Projekte entstanden\, sind gewachsen\, anderes wurde im Laufe der Zeit wieder verworfen. So wie die Stadt Esslingen selbst unterliegt auch Transition Town Esslingen dem ständigen Wandel. Einladungsflyer \nUnser buntes Programm:\n  \n\n\n\n\n\n\n\nSamstag 28.10.2023\n \n \n \n \n\n\nUhrzeit\nSaal\nRuheraum\nGruppenraum\nDraußen\n\n\n14.00-14.15\nBegrüßung\n \n \n \n\n\n14.15-14.45\n \nMeditation (10 Min)\nEinführung Schenkökonomie\nExkursion zum Stadtgärtle (60 Min)\n\n\n14.45-15.15\n \nEinführung Gewaltfreie Kommunikation\nWorkshop Putzmittel mischen\nMüllsammeltour\n\n\n15.15-16.00\nKaffeepause & Marktplatz\n \n \n \n\n\n16.00-16.30\n \n \nDiskussionsrunde Sehnsucht nach dem Wandel wecken (45 Min)\nMüllsammeltour\n\n\n16.30-16.45\n \nMeditation (10 Min)\n \n \n\n\n16.45-17.00\nAbschlussrunde\n \n \n \n\n\nSonntag 29.10.2023\n \n \n \n \n\n\n14.00-14.30\nMarktplatz & Kaffee & Kuchen\nMeditation (10 Min)\n \n \n\n\n14.30-16.00\nÖffnung Nutzpflanzen-bibliothek\n \n \nPflanzen-tauschbörse\n\n\n16.00-16.30\nMarktplatz & Kaffee & Kuchen\n \nVortrag 10 Jahre Transition Town Esslingen\n\n\n\n\n 
URL:https://wandelstadt-esslingen.de/event/jubilaeum-10-jahre-transition-town-esslingen/
LOCATION:Bürgerhaus Pliensauvorstadt\, Weilstraße 8\, Esslingen\, 73734
ORGANIZER;CN="Transition Town Esslingen - Stadt im Wandel":MAILTO:kontakt@transition-town-es.de
END:VEVENT
END:VCALENDAR