BEGIN:VCALENDAR
VERSION:2.0
PRODID:-//Wandelstadt Esslingen - ECPv6.15.20//NONSGML v1.0//EN
CALSCALE:GREGORIAN
METHOD:PUBLISH
X-WR-CALNAME:Wandelstadt Esslingen
X-ORIGINAL-URL:https://wandelstadt-esslingen.de
X-WR-CALDESC:Veranstaltungen für Wandelstadt Esslingen
REFRESH-INTERVAL;VALUE=DURATION:PT1H
X-Robots-Tag:noindex
X-PUBLISHED-TTL:PT1H
BEGIN:VTIMEZONE
TZID:Europe/Berlin
BEGIN:DAYLIGHT
TZOFFSETFROM:+0100
TZOFFSETTO:+0200
TZNAME:CEST
DTSTART:20240331T010000
END:DAYLIGHT
BEGIN:STANDARD
TZOFFSETFROM:+0200
TZOFFSETTO:+0100
TZNAME:CET
DTSTART:20241027T010000
END:STANDARD
BEGIN:DAYLIGHT
TZOFFSETFROM:+0100
TZOFFSETTO:+0200
TZNAME:CEST
DTSTART:20250330T010000
END:DAYLIGHT
BEGIN:STANDARD
TZOFFSETFROM:+0200
TZOFFSETTO:+0100
TZNAME:CET
DTSTART:20251026T010000
END:STANDARD
BEGIN:DAYLIGHT
TZOFFSETFROM:+0100
TZOFFSETTO:+0200
TZNAME:CEST
DTSTART:20260329T010000
END:DAYLIGHT
BEGIN:STANDARD
TZOFFSETFROM:+0200
TZOFFSETTO:+0100
TZNAME:CET
DTSTART:20261025T010000
END:STANDARD
END:VTIMEZONE
BEGIN:VEVENT
DTSTART;TZID=Europe/Berlin:20251129T200000
DTEND;TZID=Europe/Berlin:20251129T200000
DTSTAMP:20260422T012717
CREATED:20251029T160919Z
LAST-MODIFIED:20251029T161001Z
UID:6967-1764446400-1764446400@wandelstadt-esslingen.de
SUMMARY:Itay Dvori & Nicole Schneider
DESCRIPTION:Brücken – Gesharim –  גשרים \n Der Pianist Itay Dvori und die Zeichnerin Nicole Schneider teilen die Werte von Weltoffenheit\, Humanismus und Demokratie\, was sie zu neuen künstlerischen Wegen inspirierte. Dvori\, geboren in Israel\, vertont Graphic Novels mit bekannten Musikstücken und eigenen Kompositionen\, während Schneider\, aufgewachsen zwischen Kabul und Bonn\, in ihrem Projekt DUO:LOG Musik und Live-Zeichnung vereint. Im Konzert improvisieren sie gemeinsam live mit Klavier und digitaler Zeichnung. Die Synergie von musikalischer und visueller Sprache wird zu einem einmaligen Erlebnis. \n In einer Sonderperformance zum Jubiläum „60 Jahre Deutsch-Israelische Freundschaft“ bringen Dvori und Schneider unterschiedliche Facetten beider Länder zusammen durch Volkslieder und Erzählungen wie ihre Hommage an den Botaniker und Wüstenökologen Michael Evenari. Als Zeichen für Dialog\, Versöhnung und Optimismus\, lassen sie Brücken zwischen den zwei unterschiedlichen Kulturen entstehen und verbinden damit gleichzeitig die zwei Kunstdisziplinen. Darüber hinaus wird Itay Dvori Auszüge aus seinem innovativen Comic-Konzert präsentieren – ein Bühnenformat\, das ebenso Klang und Bild zusammenschmelzen lässt – mit grafischer Literatur aus und über Israel.
URL:https://wandelstadt-esslingen.de/event/itay-dvori-nicole-schneider/
LOCATION:Kulturzentrum Dieselstraße\, Dieselstraße 26\, Esslingen\, Deutschland
ORGANIZER;CN="Kulturzentrum Dieselstra%C3%9Fe":MAILTO:info@dieselstrasse.de
END:VEVENT
END:VCALENDAR