BEGIN:VCALENDAR
VERSION:2.0
PRODID:-//Wandelstadt Esslingen - ECPv6.15.20//NONSGML v1.0//EN
CALSCALE:GREGORIAN
METHOD:PUBLISH
X-WR-CALNAME:Wandelstadt Esslingen
X-ORIGINAL-URL:https://wandelstadt-esslingen.de
X-WR-CALDESC:Veranstaltungen für Wandelstadt Esslingen
REFRESH-INTERVAL;VALUE=DURATION:PT1H
X-Robots-Tag:noindex
X-PUBLISHED-TTL:PT1H
BEGIN:VTIMEZONE
TZID:Europe/Berlin
BEGIN:DAYLIGHT
TZOFFSETFROM:+0100
TZOFFSETTO:+0200
TZNAME:CEST
DTSTART:20240331T010000
END:DAYLIGHT
BEGIN:STANDARD
TZOFFSETFROM:+0200
TZOFFSETTO:+0100
TZNAME:CET
DTSTART:20241027T010000
END:STANDARD
BEGIN:DAYLIGHT
TZOFFSETFROM:+0100
TZOFFSETTO:+0200
TZNAME:CEST
DTSTART:20250330T010000
END:DAYLIGHT
BEGIN:STANDARD
TZOFFSETFROM:+0200
TZOFFSETTO:+0100
TZNAME:CET
DTSTART:20251026T010000
END:STANDARD
BEGIN:DAYLIGHT
TZOFFSETFROM:+0100
TZOFFSETTO:+0200
TZNAME:CEST
DTSTART:20260329T010000
END:DAYLIGHT
BEGIN:STANDARD
TZOFFSETFROM:+0200
TZOFFSETTO:+0100
TZNAME:CET
DTSTART:20261025T010000
END:STANDARD
END:VTIMEZONE
BEGIN:VEVENT
DTSTART;TZID=Europe/Berlin:20250204T170000
DTEND;TZID=Europe/Berlin:20250204T210000
DTSTAMP:20260422T033236
CREATED:20250124T214325Z
LAST-MODIFIED:20250124T214325Z
UID:4151-1738688400-1738702800@wandelstadt-esslingen.de
SUMMARY:Infoveranstaltung: Neugestaltung des Marktplatzes
DESCRIPTION:Als beliebter Treffpunkt im Herzen unserer historischen Altstadt ist der Marktplatz gewissermaßen das Wohnzimmer der Stadt. Seine Neugestaltung bietet die einmalige Chance\, die Innenstadt weiter zu beleben und sie gleichzeitig an die Folgen des Klimawandels anzupassen. \nBis zum Stadtjubiläum 2027 wollen wir den Marktplatz als zentralen Ort für unsere Bürgerinnen und Bürger und als Ort für Veranstaltungen sinnvoll weiterentwickeln. Gemeinsam mit der anstehenden Neugestaltung der Ritterstraße stellen wir damit die Weichen für die Zukunft unserer Innenstadt. \nDaher sind alle Anwohnerinnen und Anwohner\, aber auch alle anderen interessierten Esslingerinnen und Esslinger\, am 4. Februar 2025 herzlich zur Informationsveranstaltung zur Neugestaltung des Marktplatzes eingeladen. Vor Ort werden Oberbürgermeister Matthias Klopfer\, Bürgermeister Hans-Georg Sigel sowie alle beteiligten Expertinnen und Experten die detaillierten Pläne vorstellen und für Fragen zur Verfügung stehen.
URL:https://wandelstadt-esslingen.de/event/infoveranstaltung-neugestaltung-des-marktplatzes/
LOCATION:CVJM-Haus Esslingen\, Kiesstraße 3-5\, Esslingen\, 73728\, Deutschland
CATEGORIES:Beteiligung,Infoveranstaltung
END:VEVENT
END:VCALENDAR